BEGIN:VCALENDAR
VERSION:2.0
PRODID:-//Te Aroha - ECPv6.15.20//NONSGML v1.0//EN
CALSCALE:GREGORIAN
METHOD:PUBLISH
X-ORIGINAL-URL:https://tearohanz.co.nz
X-WR-CALDESC:Events for Te Aroha
REFRESH-INTERVAL;VALUE=DURATION:PT1H
X-Robots-Tag:noindex
X-PUBLISHED-TTL:PT1H
BEGIN:VTIMEZONE
TZID:Pacific/Auckland
BEGIN:STANDARD
TZOFFSETFROM:+1300
TZOFFSETTO:+1200
TZNAME:NZST
DTSTART:20230401T140000
END:STANDARD
BEGIN:DAYLIGHT
TZOFFSETFROM:+1200
TZOFFSETTO:+1300
TZNAME:NZDT
DTSTART:20230923T140000
END:DAYLIGHT
BEGIN:STANDARD
TZOFFSETFROM:+1300
TZOFFSETTO:+1200
TZNAME:NZST
DTSTART:20240406T140000
END:STANDARD
BEGIN:DAYLIGHT
TZOFFSETFROM:+1200
TZOFFSETTO:+1300
TZNAME:NZDT
DTSTART:20240928T140000
END:DAYLIGHT
BEGIN:STANDARD
TZOFFSETFROM:+1300
TZOFFSETTO:+1200
TZNAME:NZST
DTSTART:20250405T140000
END:STANDARD
BEGIN:DAYLIGHT
TZOFFSETFROM:+1200
TZOFFSETTO:+1300
TZNAME:NZDT
DTSTART:20250927T140000
END:DAYLIGHT
END:VTIMEZONE
BEGIN:VEVENT
DTSTART;TZID=Pacific/Auckland:20241128T190000
DTEND;TZID=Pacific/Auckland:20241207T210000
DTSTAMP:20260425T235802
CREATED:20241104T233754Z
LAST-MODIFIED:20241105T034403Z
UID:10002323-1732820400-1733605200@tearohanz.co.nz
SUMMARY:A Vicar of Dibley Christmas - The Second Coming
DESCRIPTION:Te Aroha Dramatic Society proudly presents – A Vicar of Dibley Christmas – The Second Coming by Jan Gower and Paul Carpenter; directed by Annette Plumpton and John Watson. \nOn stage from 28 Nov – 07 Dec 2024 ( 2.00pm matinees 30 Nov and 01 Dec) \nTickets on sale at www.tearohalittletheatre.com from 21 October
URL:https://tearohanz.co.nz/event/a-vicar-of-dibley-christmas-the-second-coming/
LOCATION:Te Aroha Little Theatre\, 8 Honi Street Te Aroha 3320\, te aroha\, 3320\, New Zealand
CATEGORIES:Featured Event
ATTACH;FMTTYPE=image/jpeg:https://tearohanz.co.nz/wp-content/uploads/2024/11/Vicar-of-Dibley-scaled.jpg
GEO:-37.544121;175.7092435
X-APPLE-STRUCTURED-LOCATION;VALUE=URI;X-ADDRESS=Te Aroha Little Theatre 8 Honi Street Te Aroha 3320 te aroha 3320 New Zealand;X-APPLE-RADIUS=500;X-TITLE=8 Honi Street Te Aroha 3320:geo:175.7092435,-37.544121
END:VEVENT
BEGIN:VEVENT
DTSTART;TZID=Pacific/Auckland:20241201T090000
DTEND;TZID=Pacific/Auckland:20241201T130000
DTSTAMP:20260425T235802
CREATED:20241107T011942Z
LAST-MODIFIED:20241126T211803Z
UID:10002324-1733043600-1733058000@tearohanz.co.nz
SUMMARY:Christmas at Boyd Park - Santa Parade and Market
DESCRIPTION:A day of fun at Boyd Park with a special one-off Christmas market from 9.00am\, and the annual Christmas float parade at 11.00am.  (Please note the parade is in the park this year; NOT on Whitaker Street). \nFloat entry forms and rules are available from Te Aroha Information Centre. Float registrations are required to emailed or delivered to allison.ward@harcourts.co.nz by Friday 29 November. \nPrize giving for floats will be at 12 noon in front of the grandstand followed by the annual Te Aroha Business Assn. Lucky Customer Draw. \nA FUN DAY FOR THE WHOLE FAMILY \nBrought to you by the Te Aroha Business Assn. in partnership with Te Aroha Fire and Rescue and the Te Aroha Country Market
URL:https://tearohanz.co.nz/event/christmas-at-boyd-park-santa-parade-and-market/
LOCATION:Boyd Park\, 50 Stanley Avenue Te Aroha\, Te Aroha\, 3320\, New Zealand
CATEGORIES:Event,Featured Event,Market
ATTACH;FMTTYPE=image/jpeg:https://tearohanz.co.nz/wp-content/uploads/2024/11/Christmas-at-Boyd-Park-scaled.jpg
ORGANIZER;CN="Te Aroha Business Assn.":MAILTO:secretary@business.tearoha.com
GEO:-37.5462898;175.7005753
X-APPLE-STRUCTURED-LOCATION;VALUE=URI;X-ADDRESS=Boyd Park 50 Stanley Avenue Te Aroha Te Aroha 3320 New Zealand;X-APPLE-RADIUS=500;X-TITLE=50 Stanley Avenue Te Aroha:geo:175.7005753,-37.5462898
END:VEVENT
END:VCALENDAR