BEGIN:VCALENDAR
VERSION:2.0
PRODID:-//Te Aroha - ECPv6.15.20//NONSGML v1.0//EN
CALSCALE:GREGORIAN
METHOD:PUBLISH
X-WR-CALNAME:Te Aroha
X-ORIGINAL-URL:https://tearohanz.co.nz
X-WR-CALDESC:Events for Te Aroha
REFRESH-INTERVAL;VALUE=DURATION:PT1H
X-Robots-Tag:noindex
X-PUBLISHED-TTL:PT1H
BEGIN:VTIMEZONE
TZID:Pacific/Auckland
BEGIN:STANDARD
TZOFFSETFROM:+1300
TZOFFSETTO:+1200
TZNAME:NZST
DTSTART:20240406T140000
END:STANDARD
BEGIN:DAYLIGHT
TZOFFSETFROM:+1200
TZOFFSETTO:+1300
TZNAME:NZDT
DTSTART:20240928T140000
END:DAYLIGHT
BEGIN:STANDARD
TZOFFSETFROM:+1300
TZOFFSETTO:+1200
TZNAME:NZST
DTSTART:20250405T140000
END:STANDARD
BEGIN:DAYLIGHT
TZOFFSETFROM:+1200
TZOFFSETTO:+1300
TZNAME:NZDT
DTSTART:20250927T140000
END:DAYLIGHT
BEGIN:STANDARD
TZOFFSETFROM:+1300
TZOFFSETTO:+1200
TZNAME:NZST
DTSTART:20260404T140000
END:STANDARD
BEGIN:DAYLIGHT
TZOFFSETFROM:+1200
TZOFFSETTO:+1300
TZNAME:NZDT
DTSTART:20260926T140000
END:DAYLIGHT
END:VTIMEZONE
BEGIN:VEVENT
DTSTART;TZID=Pacific/Auckland:20250106T080000
DTEND;TZID=Pacific/Auckland:20250228T170000
DTSTAMP:20260425T015634
CREATED:20241216T231624Z
LAST-MODIFIED:20250210T211152Z
UID:10002711-1736150400-1740762000@tearohanz.co.nz
SUMMARY:Matamata Piako Libraries - Summer Collectathon 2025
DESCRIPTION:Do you want to be the very best\, like no one ever was? The Matamata-Piako Libraries\, in collaboration with our local facilities\, are setting the ultimate challenge for you this summer! \n  \nWe’re challenging you to collect a total of 20 unique trading cards over two months as you complete a set of awesome tasks at the library\, the local pools\, the local museums and galleries\, and the visitor centres. \nSign up now and collect a starter pack from your local library from 6 January onwards to get cracking. There will be some awesome prizes up for grabs. \nA special thank you to our fabulous collaborators: \n– Swim Zone Matamata\, Morrinsville\, and Te Aroha \n– Matamata iSite \n– Morrinsville Visitor Centre \n– Te Aroha Visitor Centre \n– Firth Tower \n– Te Aroha Museum \n– Morrinsville Gallery
URL:https://tearohanz.co.nz/event/matamata-piako-libraries-summer-collectathon-2025/
LOCATION:Matamata-Piako  Libraries\, Rewi Street 43\, Te Aroha\, 3320\, New Zealand
CATEGORIES:Event
ATTACH;FMTTYPE=image/png:https://tearohanz.co.nz/wp-content/uploads/2024/12/Summer-Collectathon-FB-Instagram-Post.png
ORGANIZER;CN="Matamata Piako Libraries":MAILTO:libraries@mpdc.govt.nz
GEO:-37.5447147;175.7120966
X-APPLE-STRUCTURED-LOCATION;VALUE=URI;X-ADDRESS=Matamata-Piako  Libraries Rewi Street 43 Te Aroha 3320 New Zealand;X-APPLE-RADIUS=500;X-TITLE=Rewi Street 43:geo:175.7120966,-37.5447147
END:VEVENT
BEGIN:VEVENT
DTSTART;TZID=Pacific/Auckland:20250204T100000
DTEND;TZID=Pacific/Auckland:20250302T160000
DTSTAMP:20260425T015634
CREATED:20250210T223439Z
LAST-MODIFIED:20250210T224046Z
UID:10002782-1738663200-1740931200@tearohanz.co.nz
SUMMARY:Tessuto di Vetro - An exhibition of glass work by Te Aroha glass artist Dermot Kelly
DESCRIPTION:Morrinsville Gallery is proud to present this vibrant exhibition in the Awatea front window gallery with examples of woven glass work ‘Tessuto di Vetro’ – glass fabric\, a reference to the origin of the material – Venice\, Italy. \n  \nThe opening event is on Sunday 09 February from 11.00am – 2.00pm – https://www.morrinsvillegallery.org.nz/exhibitions/ \nGallery summer hours – \nTue – Fri 10.00am – 4.00pm \nSat – Sun 11.00am – 3.00pm
URL:https://tearohanz.co.nz/event/tessuto-do-vetro-an-exhibition-of-glass-work-by-te-aroha-glass-artist-dermot-kelly/
LOCATION:Morrinsville Gallery\, 167 Thames Street Morrinsville\, Morrinsville\, Waikato\, 3300\, New Zealand
CATEGORIES:Event,Exhibition
ATTACH;FMTTYPE=image/jpeg:https://tearohanz.co.nz/wp-content/uploads/2025/02/Dermot-Kelly-Tessuto-di-Vetro-scaled-e1739226859711.jpg
ORGANIZER;CN="Morrinsville Gallery":MAILTO:https://www.morrinsvillegallery.org.nz/contact-us/
GEO:-37.6582242;175.5268949
X-APPLE-STRUCTURED-LOCATION;VALUE=URI;X-ADDRESS=Morrinsville Gallery 167 Thames Street Morrinsville Morrinsville Waikato 3300 New Zealand;X-APPLE-RADIUS=500;X-TITLE=167 Thames Street Morrinsville:geo:175.5268949,-37.6582242
END:VEVENT
BEGIN:VEVENT
DTSTART;TZID=Pacific/Auckland:20250215T090000
DTEND;TZID=Pacific/Auckland:20250215T160000
DTSTAMP:20260425T015634
CREATED:20250131T023829Z
LAST-MODIFIED:20250207T023439Z
UID:10002778-1739610000-1739635200@tearohanz.co.nz
SUMMARY:ADRIAN WORSLEY GALLERY - OPEN DAY
DESCRIPTION:Get to see behind the scenes of Adrian Worsley’s Gallery and workshop. \nThis opportunity only comes once a year.
URL:https://tearohanz.co.nz/event/adrian-worsley-gallery-open-day/
LOCATION:Adrian Worsley Gallery\, 62 Rewi Street\, Te Aroha\, 3320\, New Zealand
CATEGORIES:Event,Featured Event
ATTACH;FMTTYPE=image/jpeg:https://tearohanz.co.nz/wp-content/uploads/2025/01/Adrain-Worsley-gallery-Open-Day-15-Feb-2025-scaled-e1738895510489.jpg
GEO:-37.5431566;175.7111199
X-APPLE-STRUCTURED-LOCATION;VALUE=URI;X-ADDRESS=Adrian Worsley Gallery 62 Rewi Street Te Aroha 3320 New Zealand;X-APPLE-RADIUS=500;X-TITLE=62 Rewi Street:geo:175.7111199,-37.5431566
END:VEVENT
BEGIN:VEVENT
DTSTART;TZID=Pacific/Auckland:20250215T150000
DTEND;TZID=Pacific/Auckland:20250215T190000
DTSTAMP:20260425T015634
CREATED:20250116T234052Z
LAST-MODIFIED:20250116T234052Z
UID:10002777-1739631600-1739646000@tearohanz.co.nz
SUMMARY:Waihou Farmers Market
DESCRIPTION:Fresh Produce – Food Trucks – Plants – Eggs – Breads & Pastries – Baking – Fudge – Coffee – Ice Cream – House & Garden Products – Music Beer Garden \nSome stalls in Waihou Tavern \nNew artisans and stall holders welcome \nTo book your place contact Cheryl \n 
URL:https://tearohanz.co.nz/event/waihou-farmers-market/
LOCATION:Waihou Tavern\, 4345 State Highway 26\, Waihou\, 3393\, New Zealand
ATTACH;FMTTYPE=image/jpeg:https://tearohanz.co.nz/wp-content/uploads/2025/01/Waihou-Farmers-Market-scaled.jpg
ORGANIZER;CN="Cheryl Graham":MAILTO:cheryl.farmersmarket@gmail.com
GEO:-37.5738512;175.6743393
X-APPLE-STRUCTURED-LOCATION;VALUE=URI;X-ADDRESS=Waihou Tavern 4345 State Highway 26 Waihou 3393 New Zealand;X-APPLE-RADIUS=500;X-TITLE=4345 State Highway 26:geo:175.6743393,-37.5738512
END:VEVENT
END:VCALENDAR