BEGIN:VCALENDAR
VERSION:2.0
PRODID:-//Te Aroha - ECPv6.15.20//NONSGML v1.0//EN
CALSCALE:GREGORIAN
METHOD:PUBLISH
X-ORIGINAL-URL:https://tearohanz.co.nz
X-WR-CALDESC:Events for Te Aroha
REFRESH-INTERVAL;VALUE=DURATION:PT1H
X-Robots-Tag:noindex
X-PUBLISHED-TTL:PT1H
BEGIN:VTIMEZONE
TZID:Pacific/Auckland
BEGIN:STANDARD
TZOFFSETFROM:+1300
TZOFFSETTO:+1200
TZNAME:NZST
DTSTART:20240406T140000
END:STANDARD
BEGIN:DAYLIGHT
TZOFFSETFROM:+1200
TZOFFSETTO:+1300
TZNAME:NZDT
DTSTART:20240928T140000
END:DAYLIGHT
BEGIN:STANDARD
TZOFFSETFROM:+1300
TZOFFSETTO:+1200
TZNAME:NZST
DTSTART:20250405T140000
END:STANDARD
BEGIN:DAYLIGHT
TZOFFSETFROM:+1200
TZOFFSETTO:+1300
TZNAME:NZDT
DTSTART:20250927T140000
END:DAYLIGHT
BEGIN:STANDARD
TZOFFSETFROM:+1300
TZOFFSETTO:+1200
TZNAME:NZST
DTSTART:20260404T140000
END:STANDARD
BEGIN:DAYLIGHT
TZOFFSETFROM:+1200
TZOFFSETTO:+1300
TZNAME:NZDT
DTSTART:20260926T140000
END:DAYLIGHT
END:VTIMEZONE
BEGIN:VEVENT
DTSTART;TZID=Pacific/Auckland:20250309T100000
DTEND;TZID=Pacific/Auckland:20250309T140000
DTSTAMP:20260425T044023
CREATED:20240912T211204Z
LAST-MODIFIED:20241111T022220Z
UID:10000029-1741514400-1741528800@tearohanz.co.nz
SUMMARY:A Day in the Domain 2025
DESCRIPTION:Sunday 09 March 2025\, from 10:00am\n\n\n\nA Day in the Domain is a fun and affordable family day out in the beautiful\, historic Te Aroha Hot Springs Domain. With free entry and entertainment throughout the day\, there is something to delight young and old and everyone in between. In recent years we have had a real variety including the Adrenalin Run\, Chainsaw Sculptor and the Vertical Bungy Jump\, along with perennial favourites\, the Pipes and Drums of Hauraki and the Wai Taiko Drummers. Every year there has been a Teddy Bears picnic where our talented storyteller keeps the littlies enthralled while they sip on juice and munch their goodies with Teds big and small.
URL:https://tearohanz.co.nz/event/a-day-in-the-domain-2025-2/
LOCATION:Te Aroha Domain\, 102 Whitaker Street\, Te Aroha 3320\, Te Aroha\, 3320\, New Zealand
CATEGORIES:Event,Featured Event,Market
ATTACH;FMTTYPE=image/jpeg:https://tearohanz.co.nz/wp-content/uploads/2024/09/450215528_928442519326776_5950665335744033612_n.jpg
ORGANIZER;CN="Domain Day Committee":MAILTO:tearohadomainday@gmail.com
GEO:-37.5449718;175.715419
X-APPLE-STRUCTURED-LOCATION;VALUE=URI;X-ADDRESS=Te Aroha Domain 102 Whitaker Street Te Aroha 3320 Te Aroha 3320 New Zealand;X-APPLE-RADIUS=500;X-TITLE=102 Whitaker Street\, Te Aroha 3320:geo:175.715419,-37.5449718
END:VEVENT
END:VCALENDAR