BEGIN:VCALENDAR
VERSION:2.0
PRODID:-//Te Aroha - ECPv6.15.20//NONSGML v1.0//EN
CALSCALE:GREGORIAN
METHOD:PUBLISH
X-WR-CALNAME:Te Aroha
X-ORIGINAL-URL:https://tearohanz.co.nz
X-WR-CALDESC:Events for Te Aroha
REFRESH-INTERVAL;VALUE=DURATION:PT1H
X-Robots-Tag:noindex
X-PUBLISHED-TTL:PT1H
BEGIN:VTIMEZONE
TZID:Pacific/Auckland
BEGIN:STANDARD
TZOFFSETFROM:+1300
TZOFFSETTO:+1200
TZNAME:NZST
DTSTART:20240406T140000
END:STANDARD
BEGIN:DAYLIGHT
TZOFFSETFROM:+1200
TZOFFSETTO:+1300
TZNAME:NZDT
DTSTART:20240928T140000
END:DAYLIGHT
BEGIN:STANDARD
TZOFFSETFROM:+1300
TZOFFSETTO:+1200
TZNAME:NZST
DTSTART:20250405T140000
END:STANDARD
BEGIN:DAYLIGHT
TZOFFSETFROM:+1200
TZOFFSETTO:+1300
TZNAME:NZDT
DTSTART:20250927T140000
END:DAYLIGHT
BEGIN:STANDARD
TZOFFSETFROM:+1300
TZOFFSETTO:+1200
TZNAME:NZST
DTSTART:20260404T140000
END:STANDARD
BEGIN:DAYLIGHT
TZOFFSETFROM:+1200
TZOFFSETTO:+1300
TZNAME:NZDT
DTSTART:20260926T140000
END:DAYLIGHT
END:VTIMEZONE
BEGIN:VEVENT
DTSTART;TZID=Pacific/Auckland:20250525T100000
DTEND;TZID=Pacific/Auckland:20250525T140000
DTSTAMP:20260425T074242
CREATED:20250520T023057Z
LAST-MODIFIED:20250520T023057Z
UID:10002919-1748167200-1748181600@tearohanz.co.nz
SUMMARY:HEALTH EXPO-Check up time
DESCRIPTION:Your free health check includes \nBMI-Am I well nourished \nBlood Pressure-Is my ticker stressed \nBlood Sugars-Too much sugar in my blood \nLung Capacity-Am I running out of puff \nFitness Test-What am I fit for \n10.00am to 2.00pm Sunday 25 May 25 \nSenior Citizens Hall \n24 Church St Te aroha \nFor more info contact: Anneline Ph 027 201 1308
URL:https://tearohanz.co.nz/event/health-expo-check-up-time/
LOCATION:Te Aroha Senior Citizens\, 24 Church St\, Te Aroha\, 3320\, New Zealand
GEO:-37.5416757;175.712613
X-APPLE-STRUCTURED-LOCATION;VALUE=URI;X-ADDRESS=Te Aroha Senior Citizens 24 Church St Te Aroha 3320 New Zealand;X-APPLE-RADIUS=500;X-TITLE=24 Church St:geo:175.712613,-37.5416757
END:VEVENT
END:VCALENDAR