BEGIN:VCALENDAR
VERSION:2.0
PRODID:-//Te Aroha - ECPv6.15.20//NONSGML v1.0//EN
CALSCALE:GREGORIAN
METHOD:PUBLISH
X-ORIGINAL-URL:https://tearohanz.co.nz
X-WR-CALDESC:Events for Te Aroha
REFRESH-INTERVAL;VALUE=DURATION:PT1H
X-Robots-Tag:noindex
X-PUBLISHED-TTL:PT1H
BEGIN:VTIMEZONE
TZID:Pacific/Auckland
BEGIN:STANDARD
TZOFFSETFROM:+1300
TZOFFSETTO:+1200
TZNAME:NZST
DTSTART:20250405T140000
END:STANDARD
BEGIN:DAYLIGHT
TZOFFSETFROM:+1200
TZOFFSETTO:+1300
TZNAME:NZDT
DTSTART:20250927T140000
END:DAYLIGHT
BEGIN:STANDARD
TZOFFSETFROM:+1300
TZOFFSETTO:+1200
TZNAME:NZST
DTSTART:20260404T140000
END:STANDARD
BEGIN:DAYLIGHT
TZOFFSETFROM:+1200
TZOFFSETTO:+1300
TZNAME:NZDT
DTSTART:20260926T140000
END:DAYLIGHT
BEGIN:STANDARD
TZOFFSETFROM:+1300
TZOFFSETTO:+1200
TZNAME:NZST
DTSTART:20270403T140000
END:STANDARD
BEGIN:DAYLIGHT
TZOFFSETFROM:+1200
TZOFFSETTO:+1300
TZNAME:NZDT
DTSTART:20270925T140000
END:DAYLIGHT
END:VTIMEZONE
BEGIN:VEVENT
DTSTART;TZID=Pacific/Auckland:20260108T080000
DTEND;TZID=Pacific/Auckland:20260228T170000
DTSTAMP:20260425T004837
CREATED:20260107T232231Z
LAST-MODIFIED:20260119T002008Z
UID:10003346-1767859200-1772298000@tearohanz.co.nz
SUMMARY:Explorers Bingo
DESCRIPTION:Get out and about in nature this summer and play Explorers Bingo with us. Pop into Te Aroha Visitor Information Centre and pick up your Bingo sheets – there are three to choose from; 1 being the easiest and 3 the hardest. Bring your completed sheets back to us with your name and phone number on the back and we’ll pop you in our weekly draw for a Family Pass (2 adults and up to 3  children) to any of our Swim Zone Pools in the district. One drawn every week until the end of summer. \n 
URL:https://tearohanz.co.nz/event/explorers-bingo/
LOCATION:Te Aroha Visitor Information Centre\, Whitaker Street 102\, Te Aroha\, 3320\, New Zealand
CATEGORIES:Event,Featured Event
ATTACH;FMTTYPE=image/jpeg:https://tearohanz.co.nz/wp-content/uploads/2026/01/District.jpg
ORGANIZER;CN="Te Aroha Visitor information Centre":MAILTO:info@tearohanz.co.nz
GEO:-37.544621;175.7141139
X-APPLE-STRUCTURED-LOCATION;VALUE=URI;X-ADDRESS=Te Aroha Visitor Information Centre Whitaker Street 102 Te Aroha 3320 New Zealand;X-APPLE-RADIUS=500;X-TITLE=Whitaker Street 102:geo:175.7141139,-37.544621
END:VEVENT
BEGIN:VEVENT
DTSTART;TZID=Pacific/Auckland:20260112T080000
DTEND;TZID=Pacific/Auckland:20260301T170000
DTSTAMP:20260425T004837
CREATED:20260107T225437Z
LAST-MODIFIED:20260107T230011Z
UID:10003345-1768204800-1772384400@tearohanz.co.nz
SUMMARY:Summer Collectathon  - Matamata-Piako Libraries Vol. 2
DESCRIPTION:The Summer Collectathon is back for Volume 2!\n  \nWith all new Piakomon\, exciting new challenges\, and an additional participating facility! \nThis year\, we’re challenging you to collect a total of 25 unique trading cards between 12 January and 1 March as you complete a set of awesome challenges at the library\, the local pools\, the local museums and galleries\, the visitor centres\, and the local parks and reserves. \nSign up now and collect a starter pack from your local library from 12 January onwards to get cracking. There will be some awesome prizes up for grabs and a special “rare” card for those who complete the challenge! \n \n  \nA special thank you to our fabulous collaborators: \n– Swim Zone Matamata\, Morrinsville\, and Te Aroha \n– Matamata iSite \n– Morrinsville Visitor Centre \n– Te Aroha Visitor Centre \n– Firth Tower \n– Te Aroha Museum \n– Morrinsville Gallery \n– Matamata-Piako Parks and Reserves
URL:https://tearohanz.co.nz/event/summer-collectathon-matamata-piako-libraries-vol-2/
LOCATION:Te Aroha Library\, 43 Rewi Street\, Te Aroha\, Waikato\, 3320\, New Zealand
CATEGORIES:Event,Featured Event
ATTACH;FMTTYPE=image/jpeg:https://tearohanz.co.nz/wp-content/uploads/2026/01/Summer-Collectathon-2026-scaled-e1767826383266.jpg
ORGANIZER;CN="Te Aroha Library":MAILTO:libraries@mpdc.govt.nz
GEO:-37.5447147;175.7120966
X-APPLE-STRUCTURED-LOCATION;VALUE=URI;X-ADDRESS=Te Aroha Library 43 Rewi Street Te Aroha Waikato 3320 New Zealand;X-APPLE-RADIUS=500;X-TITLE=43 Rewi Street:geo:175.7120966,-37.5447147
END:VEVENT
END:VCALENDAR