BEGIN:VCALENDAR
VERSION:2.0
PRODID:-//Te Aroha - ECPv6.15.20//NONSGML v1.0//EN
CALSCALE:GREGORIAN
METHOD:PUBLISH
X-ORIGINAL-URL:https://tearohanz.co.nz
X-WR-CALDESC:Events for Te Aroha
REFRESH-INTERVAL;VALUE=DURATION:PT1H
X-Robots-Tag:noindex
X-PUBLISHED-TTL:PT1H
BEGIN:VTIMEZONE
TZID:Pacific/Auckland
BEGIN:STANDARD
TZOFFSETFROM:+1300
TZOFFSETTO:+1200
TZNAME:NZST
DTSTART:20250405T140000
END:STANDARD
BEGIN:DAYLIGHT
TZOFFSETFROM:+1200
TZOFFSETTO:+1300
TZNAME:NZDT
DTSTART:20250927T140000
END:DAYLIGHT
BEGIN:STANDARD
TZOFFSETFROM:+1300
TZOFFSETTO:+1200
TZNAME:NZST
DTSTART:20260404T140000
END:STANDARD
BEGIN:DAYLIGHT
TZOFFSETFROM:+1200
TZOFFSETTO:+1300
TZNAME:NZDT
DTSTART:20260926T140000
END:DAYLIGHT
BEGIN:STANDARD
TZOFFSETFROM:+1300
TZOFFSETTO:+1200
TZNAME:NZST
DTSTART:20270403T140000
END:STANDARD
BEGIN:DAYLIGHT
TZOFFSETFROM:+1200
TZOFFSETTO:+1300
TZNAME:NZDT
DTSTART:20270925T140000
END:DAYLIGHT
END:VTIMEZONE
BEGIN:VEVENT
DTSTART;VALUE=DATE:20260408
DTEND;VALUE=DATE:20260409
DTSTAMP:20260425T005604
CREATED:20251221T201052Z
LAST-MODIFIED:20251221T201052Z
UID:10003341-1775606400-1775692799@tearohanz.co.nz
SUMMARY:ECHO Walking Festival - Te Aroha's Golden Valley - Waiorongomai Explore
DESCRIPTION:Join our knowledgeable guides for a full day’s exploration of this historic goldmining area. This walk takes us to the upper reaches of the Valley\, through regenerating native bush to explore pack tracks and tramlines from gold mining days\, including New Zealand’s oldest tramline (1882-83) with much of the original rail still in place. A shorter option will be considered if the weather is unfavourable. Optional soak in the No. 2 Bathhouse in Te Aroha Domain ($8 per person) after the walk. \n  \n  \nSee other events in this area \nhttps://www.echowalkfest.org.nz/events/howarth-memorial-wetlands-walk-and-talk/ \nhttps://www.echowalkfest.org.nz/events/night-time-in-the-bush-glowworm-walk/
URL:https://tearohanz.co.nz/event/echo-walking-festival-te-arohas-golden-valley-waiorongomai-explore/
CATEGORIES:Event,Featured Event
ATTACH;FMTTYPE=image/webp:https://tearohanz.co.nz/wp-content/uploads/2025/12/img-20220420-wa0000-e1764721701756.webp
END:VEVENT
END:VCALENDAR