BEGIN:VCALENDAR
VERSION:2.0
PRODID:-//Te Aroha - ECPv6.15.20//NONSGML v1.0//EN
CALSCALE:GREGORIAN
METHOD:PUBLISH
X-ORIGINAL-URL:https://tearohanz.co.nz
X-WR-CALDESC:Events for Te Aroha
REFRESH-INTERVAL;VALUE=DURATION:PT1H
X-Robots-Tag:noindex
X-PUBLISHED-TTL:PT1H
BEGIN:VTIMEZONE
TZID:Pacific/Auckland
BEGIN:STANDARD
TZOFFSETFROM:+1300
TZOFFSETTO:+1200
TZNAME:NZST
DTSTART:20250405T140000
END:STANDARD
BEGIN:DAYLIGHT
TZOFFSETFROM:+1200
TZOFFSETTO:+1300
TZNAME:NZDT
DTSTART:20250927T140000
END:DAYLIGHT
BEGIN:STANDARD
TZOFFSETFROM:+1300
TZOFFSETTO:+1200
TZNAME:NZST
DTSTART:20260404T140000
END:STANDARD
BEGIN:DAYLIGHT
TZOFFSETFROM:+1200
TZOFFSETTO:+1300
TZNAME:NZDT
DTSTART:20260926T140000
END:DAYLIGHT
BEGIN:STANDARD
TZOFFSETFROM:+1300
TZOFFSETTO:+1200
TZNAME:NZST
DTSTART:20270403T140000
END:STANDARD
BEGIN:DAYLIGHT
TZOFFSETFROM:+1200
TZOFFSETTO:+1300
TZNAME:NZDT
DTSTART:20270925T140000
END:DAYLIGHT
END:VTIMEZONE
BEGIN:VEVENT
DTSTART;VALUE=DATE:20260415
DTEND;VALUE=DATE:20261004
DTSTAMP:20260425T023124
CREATED:20260415T040459Z
LAST-MODIFIED:20260417T013723Z
UID:10003734-1776211200-1791071999@tearohanz.co.nz
SUMMARY:Aroha Cruise In
DESCRIPTION:Aroha Cruise In \nSaturday 3 October 2026 \nNew Venue \nAroha Cruise In will be held at the Te Aroha race course on Stanley Rd Te Aroha \nShow Cars $10.00 includes 4 Adults      VIP Pack$100.00 \nPublic Entry $10.00 per Adult \nKids Free
URL:https://tearohanz.co.nz/event/aroha-cruise-in-2/
LOCATION:Aroha Cruise IN\, Stanley Rd\, Te Aroha\, 3320\, New Zealand
CATEGORIES:Event,Featured Event
ATTACH;FMTTYPE=image/jpeg:https://tearohanz.co.nz/wp-content/uploads/2026/04/Aroha-Cruise-in-e1776389825354.jpg
GEO:-37.544703;175.7140943
X-APPLE-STRUCTURED-LOCATION;VALUE=URI;X-ADDRESS=Aroha Cruise IN Stanley Rd Te Aroha 3320 New Zealand;X-APPLE-RADIUS=500;X-TITLE=Stanley Rd:geo:175.7140943,-37.544703
END:VEVENT
BEGIN:VEVENT
DTSTART;TZID=Pacific/Auckland:20260525T100000
DTEND;TZID=Pacific/Auckland:20260525T130000
DTSTAMP:20260425T023124
CREATED:20250812T235655Z
LAST-MODIFIED:20250926T021609Z
UID:10003094-1779703200-1779714000@tearohanz.co.nz
SUMMARY:Handcraft Classes
DESCRIPTION:Join in at Future Te Aroha for our craft mornings on Monday with Helen\, bring your own unfinished projects or learn a new one in a warm friendly environment \nMondays at 10.00 am \nFuture Te Aroha \n13 Boundary st Te Aroha \ncontact; 07 8849489 or futureta@xtra.co.nz \n$$5.00 Koha appreciated
URL:https://tearohanz.co.nz/event/handcraft-classes/2026-05-25/
LOCATION:Future Te Aroha Centre\, 13 Boundary Street\, Te Aroha\, Waikato\, 3320\, New Zealand
CATEGORIES:Event
ATTACH;FMTTYPE=image/jpeg:https://tearohanz.co.nz/wp-content/uploads/2025/08/Handcraft-classes-scaled.jpg
GEO:-37.5439559;175.7143041
X-APPLE-STRUCTURED-LOCATION;VALUE=URI;X-ADDRESS=Future Te Aroha Centre 13 Boundary Street Te Aroha Waikato 3320 New Zealand;X-APPLE-RADIUS=500;X-TITLE=13 Boundary Street:geo:175.7143041,-37.5439559
END:VEVENT
END:VCALENDAR