BEGIN:VCALENDAR
VERSION:2.0
PRODID:-//Te Aroha - ECPv6.15.20//NONSGML v1.0//EN
CALSCALE:GREGORIAN
METHOD:PUBLISH
X-ORIGINAL-URL:https://tearohanz.co.nz
X-WR-CALDESC:Events for Te Aroha
REFRESH-INTERVAL;VALUE=DURATION:PT1H
X-Robots-Tag:noindex
X-PUBLISHED-TTL:PT1H
BEGIN:VTIMEZONE
TZID:Pacific/Auckland
BEGIN:STANDARD
TZOFFSETFROM:+1300
TZOFFSETTO:+1200
TZNAME:NZST
DTSTART:20260404T140000
END:STANDARD
BEGIN:DAYLIGHT
TZOFFSETFROM:+1200
TZOFFSETTO:+1300
TZNAME:NZDT
DTSTART:20260926T140000
END:DAYLIGHT
BEGIN:STANDARD
TZOFFSETFROM:+1300
TZOFFSETTO:+1200
TZNAME:NZST
DTSTART:20270403T140000
END:STANDARD
BEGIN:DAYLIGHT
TZOFFSETFROM:+1200
TZOFFSETTO:+1300
TZNAME:NZDT
DTSTART:20270925T140000
END:DAYLIGHT
BEGIN:STANDARD
TZOFFSETFROM:+1300
TZOFFSETTO:+1200
TZNAME:NZST
DTSTART:20280401T140000
END:STANDARD
BEGIN:DAYLIGHT
TZOFFSETFROM:+1200
TZOFFSETTO:+1300
TZNAME:NZDT
DTSTART:20280923T140000
END:DAYLIGHT
END:VTIMEZONE
BEGIN:VEVENT
DTSTART;TZID=Pacific/Auckland:20270719T100000
DTEND;TZID=Pacific/Auckland:20270719T130000
DTSTAMP:20260425T010942
CREATED:20250812T235655Z
LAST-MODIFIED:20250926T021609Z
UID:10003154-1815991200-1816002000@tearohanz.co.nz
SUMMARY:Handcraft Classes
DESCRIPTION:Join in at Future Te Aroha for our craft mornings on Monday with Helen\, bring your own unfinished projects or learn a new one in a warm friendly environment \nMondays at 10.00 am \nFuture Te Aroha \n13 Boundary st Te Aroha \ncontact; 07 8849489 or futureta@xtra.co.nz \n$$5.00 Koha appreciated
URL:https://tearohanz.co.nz/event/handcraft-classes/2027-07-19/
LOCATION:Future Te Aroha Centre\, 13 Boundary Street\, Te Aroha\, Waikato\, 3320\, New Zealand
CATEGORIES:Event
ATTACH;FMTTYPE=image/jpeg:https://tearohanz.co.nz/wp-content/uploads/2025/08/Handcraft-classes-scaled.jpg
GEO:-37.5439559;175.7143041
X-APPLE-STRUCTURED-LOCATION;VALUE=URI;X-ADDRESS=Future Te Aroha Centre 13 Boundary Street Te Aroha Waikato 3320 New Zealand;X-APPLE-RADIUS=500;X-TITLE=13 Boundary Street:geo:175.7143041,-37.5439559
END:VEVENT
END:VCALENDAR