BEGIN:VCALENDAR
VERSION:2.0
PRODID:-//Te Aroha - ECPv6.15.20//NONSGML v1.0//EN
CALSCALE:GREGORIAN
METHOD:PUBLISH
X-ORIGINAL-URL:https://tearohanz.co.nz
X-WR-CALDESC:Events for Te Aroha
REFRESH-INTERVAL;VALUE=DURATION:PT1H
X-Robots-Tag:noindex
X-PUBLISHED-TTL:PT1H
BEGIN:VTIMEZONE
TZID:Pacific/Auckland
BEGIN:STANDARD
TZOFFSETFROM:+1300
TZOFFSETTO:+1200
TZNAME:NZST
DTSTART:20230401T140000
END:STANDARD
BEGIN:DAYLIGHT
TZOFFSETFROM:+1200
TZOFFSETTO:+1300
TZNAME:NZDT
DTSTART:20230923T140000
END:DAYLIGHT
BEGIN:STANDARD
TZOFFSETFROM:+1300
TZOFFSETTO:+1200
TZNAME:NZST
DTSTART:20240406T140000
END:STANDARD
BEGIN:DAYLIGHT
TZOFFSETFROM:+1200
TZOFFSETTO:+1300
TZNAME:NZDT
DTSTART:20240928T140000
END:DAYLIGHT
BEGIN:STANDARD
TZOFFSETFROM:+1300
TZOFFSETTO:+1200
TZNAME:NZST
DTSTART:20250405T140000
END:STANDARD
BEGIN:DAYLIGHT
TZOFFSETFROM:+1200
TZOFFSETTO:+1300
TZNAME:NZDT
DTSTART:20250927T140000
END:DAYLIGHT
END:VTIMEZONE
BEGIN:VEVENT
DTSTART;VALUE=DATE:20241101
DTEND;VALUE=DATE:20241102
DTSTAMP:20260425T083259
CREATED:20240923T035712Z
LAST-MODIFIED:20240923T041643Z
UID:10000770-1730419200-1730505599@tearohanz.co.nz
SUMMARY:NZMCA Te Aroha Town Romp
DESCRIPTION:Motorhome Association get together! \nVarious entertainment! \nLocation: NZMCA PARK\nContact: 09 298 5466
URL:https://tearohanz.co.nz/event/nzmca-te-aroha-town-romp/2024-11-01/
LOCATION:Boyd Park\, 50 Stanley Avenue Te Aroha\, Te Aroha\, 3320\, New Zealand
CATEGORIES:Event
ATTACH;FMTTYPE=image/jpeg:https://tearohanz.co.nz/wp-content/uploads/2024/09/455157842_1026146162632609_6534337806128932329_n-1-e1747182321637.jpg
GEO:-37.5462898;175.7005753
X-APPLE-STRUCTURED-LOCATION;VALUE=URI;X-ADDRESS=Boyd Park 50 Stanley Avenue Te Aroha Te Aroha 3320 New Zealand;X-APPLE-RADIUS=500;X-TITLE=50 Stanley Avenue Te Aroha:geo:175.7005753,-37.5462898
END:VEVENT
BEGIN:VEVENT
DTSTART;VALUE=DATE:20241102
DTEND;VALUE=DATE:20241103
DTSTAMP:20260425T083259
CREATED:20241008T002203Z
LAST-MODIFIED:20241008T002205Z
UID:10002244-1730505600-1730591999@tearohanz.co.nz
SUMMARY:NZMCA Te Aroha Town Romp
DESCRIPTION:Motorhome Association get together! \nVarious entertainment! \nLocation: NZMCA PARK\nContact: 09 298 5466
URL:https://tearohanz.co.nz/event/nzmca-te-aroha-town-romp-2/
LOCATION:Boyd Park\, 50 Stanley Avenue Te Aroha\, Te Aroha\, 3320\, New Zealand
CATEGORIES:Event
ATTACH;FMTTYPE=image/jpeg:https://tearohanz.co.nz/wp-content/uploads/2024/09/455157842_1026146162632609_6534337806128932329_n-1-e1747182321637.jpg
GEO:-37.5462898;175.7005753
X-APPLE-STRUCTURED-LOCATION;VALUE=URI;X-ADDRESS=Boyd Park 50 Stanley Avenue Te Aroha Te Aroha 3320 New Zealand;X-APPLE-RADIUS=500;X-TITLE=50 Stanley Avenue Te Aroha:geo:175.7005753,-37.5462898
END:VEVENT
BEGIN:VEVENT
DTSTART;VALUE=DATE:20241103
DTEND;VALUE=DATE:20241104
DTSTAMP:20260425T083259
CREATED:20241008T002329Z
LAST-MODIFIED:20241008T002329Z
UID:10002245-1730592000-1730678399@tearohanz.co.nz
SUMMARY:NZMCA Te Aroha Town Romp
DESCRIPTION:Motorhome Association get together! \nVarious entertainment! \nLocation: NZMCA PARK\nContact: 09 298 5466
URL:https://tearohanz.co.nz/event/nzmca-te-aroha-town-romp-3/
LOCATION:Boyd Park\, 50 Stanley Avenue Te Aroha\, Te Aroha\, 3320\, New Zealand
CATEGORIES:Event
ATTACH;FMTTYPE=image/jpeg:https://tearohanz.co.nz/wp-content/uploads/2024/09/455157842_1026146162632609_6534337806128932329_n-1-e1747182321637.jpg
GEO:-37.5462898;175.7005753
X-APPLE-STRUCTURED-LOCATION;VALUE=URI;X-ADDRESS=Boyd Park 50 Stanley Avenue Te Aroha Te Aroha 3320 New Zealand;X-APPLE-RADIUS=500;X-TITLE=50 Stanley Avenue Te Aroha:geo:175.7005753,-37.5462898
END:VEVENT
BEGIN:VEVENT
DTSTART;TZID=Pacific/Auckland:20241103T090000
DTEND;TZID=Pacific/Auckland:20241103T150000
DTSTAMP:20260425T083259
CREATED:20240919T013934Z
LAST-MODIFIED:20241010T030809Z
UID:10000400-1730624400-1730646000@tearohanz.co.nz
SUMMARY:Arts Under the Mountain - Spring Festival
DESCRIPTION:Local arts and crafts \nLive entertainment and music \nCreative workshops
URL:https://tearohanz.co.nz/event/arts-under-the-mountain-spring-festival/
LOCATION:Whitaker Street\, Te Aroha 3320\, Whitaker St\, Te Aroha\, Waikato\, 3320\, New Zealand
CATEGORIES:Featured Event
ATTACH;FMTTYPE=image/png:https://tearohanz.co.nz/wp-content/uploads/2024/09/Arts-under-the-mountain.jpg1_.png
GEO:-37.5443083;175.7134342
X-APPLE-STRUCTURED-LOCATION;VALUE=URI;X-ADDRESS=Whitaker Street Te Aroha 3320 Whitaker St Te Aroha Waikato 3320 New Zealand;X-APPLE-RADIUS=500;X-TITLE=Whitaker St:geo:175.7134342,-37.5443083
END:VEVENT
BEGIN:VEVENT
DTSTART;VALUE=DATE:20241104
DTEND;VALUE=DATE:20241105
DTSTAMP:20260425T083259
CREATED:20240923T035712Z
LAST-MODIFIED:20240923T041643Z
UID:10002246-1730707200-1730739600@tearohanz.co.nz
SUMMARY:NZMCA Te Aroha Town Romp
DESCRIPTION:Motorhome Association get together! \nVarious entertainment! \nLocation: NZMCA PARK\nContact: 09 298 5466
URL:https://tearohanz.co.nz/event/nzmca-te-aroha-town-romp/2024-11-04/
LOCATION:Boyd Park\, 50 Stanley Avenue Te Aroha\, Te Aroha\, 3320\, New Zealand
CATEGORIES:Event
ATTACH;FMTTYPE=image/jpeg:https://tearohanz.co.nz/wp-content/uploads/2024/09/455157842_1026146162632609_6534337806128932329_n-1-e1747182321637.jpg
GEO:-37.5462898;175.7005753
X-APPLE-STRUCTURED-LOCATION;VALUE=URI;X-ADDRESS=Boyd Park 50 Stanley Avenue Te Aroha Te Aroha 3320 New Zealand;X-APPLE-RADIUS=500;X-TITLE=50 Stanley Avenue Te Aroha:geo:175.7005753,-37.5462898
END:VEVENT
BEGIN:VEVENT
DTSTART;TZID=Pacific/Auckland:20241109T090000
DTEND;TZID=Pacific/Auckland:20241109T160000
DTSTAMP:20260425T083259
CREATED:20241015T035725Z
LAST-MODIFIED:20241016T015723Z
UID:10002311-1731142800-1731168000@tearohanz.co.nz
SUMMARY:Te Aroha AP & H Show
DESCRIPTION:Come along to Boyd Park and enjoy all the animals and entertainment at Te Aroha’s Big Day Out for farmers and families. Fun for all ages. \nFind them on Facebook
URL:https://tearohanz.co.nz/event/te-aroha-ap-h-show/
LOCATION:Boyd Park\, 50 Stanley Avenue Te Aroha\, Te Aroha\, 3320\, New Zealand
CATEGORIES:Featured Event
ATTACH;FMTTYPE=image/jpeg:https://tearohanz.co.nz/wp-content/uploads/2024/10/AP-Show.jpg
ORGANIZER;CN="Te Aroha AP & H Society":MAILTO:tearohaaph@gmail.com
GEO:-37.5462898;175.7005753
X-APPLE-STRUCTURED-LOCATION;VALUE=URI;X-ADDRESS=Boyd Park 50 Stanley Avenue Te Aroha Te Aroha 3320 New Zealand;X-APPLE-RADIUS=500;X-TITLE=50 Stanley Avenue Te Aroha:geo:175.7005753,-37.5462898
END:VEVENT
BEGIN:VEVENT
DTSTART;TZID=Pacific/Auckland:20241117T090000
DTEND;TZID=Pacific/Auckland:20241117T130000
DTSTAMP:20260425T083259
CREATED:20241016T022739Z
LAST-MODIFIED:20241111T011358Z
UID:10002321-1731834000-1731848400@tearohanz.co.nz
SUMMARY:Te Aroha Country Market
DESCRIPTION:Come to Boyd Park in Stanley Ave and enjoy the friendly country feel of our great market. Have a snack and a coffee and wander around the wide variety of stalls.\n\n\n\nMarket is on the third Sunday of every month. Doors open at 7.00am to set up and market runs 9.00am – 1.00pm. Cash-out EFTPOS provided for customers\, raffles\, food\, clothing\, gifts\, homewares\, pet supplies\, gifts and mountains more\, \nA stall costs $10.00 and once the expenses are covered the remainder is donated to charity \n\nLocation : Boyd Park\, Stanley Ave\, Te Aroha\nContact : https://www.facebook.com/groups/571854704486370/
URL:https://tearohanz.co.nz/event/te-arohas-country-market-2/2024-11-17/
LOCATION:Boyd Park\, 50 Stanley Avenue Te Aroha\, Te Aroha\, 3320\, New Zealand
CATEGORIES:Market
ATTACH;FMTTYPE=image/jpeg:https://tearohanz.co.nz/wp-content/uploads/2024/09/country-craft-market.jpg
GEO:-37.5462898;175.7005753
X-APPLE-STRUCTURED-LOCATION;VALUE=URI;X-ADDRESS=Boyd Park 50 Stanley Avenue Te Aroha Te Aroha 3320 New Zealand;X-APPLE-RADIUS=500;X-TITLE=50 Stanley Avenue Te Aroha:geo:175.7005753,-37.5462898
END:VEVENT
BEGIN:VEVENT
DTSTART;TZID=Pacific/Auckland:20241123T190000
DTEND;TZID=Pacific/Auckland:20241123T190000
DTSTAMP:20260425T083259
CREATED:20241008T000927Z
LAST-MODIFIED:20241008T001952Z
UID:10002247-1732388400-1732388400@tearohanz.co.nz
SUMMARY:1920’S Spring Ball
DESCRIPTION:St Joseph’s School Te Aroha PTA invites you to a 1920’s Spring Ball on 23rd November at 7.00pm at St Joseph’s Catholic Hall – 222 Whitaker St Te Aroha
URL:https://tearohanz.co.nz/event/1920s-spring-ball/
LOCATION:St Joseph’s Catholic Hall – 222 Whitaker St Te Aroha\, Whitaker Street\, Te Aroha\, 3320\, New Zealand
CATEGORIES:Event
ATTACH;FMTTYPE=image/png:https://tearohanz.co.nz/wp-content/uploads/2024/10/St-Joes-Sprind-ball-update.png
GEO:-37.5407431;175.7108451
X-APPLE-STRUCTURED-LOCATION;VALUE=URI;X-ADDRESS=St Joseph’s Catholic Hall – 222 Whitaker St Te Aroha Whitaker Street Te Aroha 3320 New Zealand;X-APPLE-RADIUS=500;X-TITLE=Whitaker Street:geo:175.7108451,-37.5407431
END:VEVENT
BEGIN:VEVENT
DTSTART;TZID=Pacific/Auckland:20241128T190000
DTEND;TZID=Pacific/Auckland:20241207T210000
DTSTAMP:20260425T083300
CREATED:20241104T233754Z
LAST-MODIFIED:20241105T034403Z
UID:10002323-1732820400-1733605200@tearohanz.co.nz
SUMMARY:A Vicar of Dibley Christmas - The Second Coming
DESCRIPTION:Te Aroha Dramatic Society proudly presents – A Vicar of Dibley Christmas – The Second Coming by Jan Gower and Paul Carpenter; directed by Annette Plumpton and John Watson. \nOn stage from 28 Nov – 07 Dec 2024 ( 2.00pm matinees 30 Nov and 01 Dec) \nTickets on sale at www.tearohalittletheatre.com from 21 October
URL:https://tearohanz.co.nz/event/a-vicar-of-dibley-christmas-the-second-coming/
LOCATION:Te Aroha Little Theatre\, 8 Honi Street Te Aroha 3320\, te aroha\, 3320\, New Zealand
CATEGORIES:Featured Event
ATTACH;FMTTYPE=image/jpeg:https://tearohanz.co.nz/wp-content/uploads/2024/11/Vicar-of-Dibley-scaled.jpg
GEO:-37.544121;175.7092435
X-APPLE-STRUCTURED-LOCATION;VALUE=URI;X-ADDRESS=Te Aroha Little Theatre 8 Honi Street Te Aroha 3320 te aroha 3320 New Zealand;X-APPLE-RADIUS=500;X-TITLE=8 Honi Street Te Aroha 3320:geo:175.7092435,-37.544121
END:VEVENT
BEGIN:VEVENT
DTSTART;TZID=Pacific/Auckland:20241130T100000
DTEND;TZID=Pacific/Auckland:20241130T130000
DTSTAMP:20260425T083300
CREATED:20241129T033328Z
LAST-MODIFIED:20241129T033328Z
UID:10002708-1732960800-1732971600@tearohanz.co.nz
SUMMARY:CHRISTMAS CRAFTS - TE AROHA LIBRARY
DESCRIPTION:Recycle and revamp old Christmas baubles\, create sparkly new ornaments\, and get your budget friendly gifts sorted
URL:https://tearohanz.co.nz/event/christmas-crafts-te-aroha-library/
LOCATION:Te Aroha Library\, 43 Rewi Street\, Te Aroha\, Waikato\, 3320\, New Zealand
CATEGORIES:Event
ATTACH;FMTTYPE=image/png:https://tearohanz.co.nz/wp-content/uploads/2024/11/Te-Aroha-Library-card-making-Nov-2024.png
ORGANIZER;CN="Te Aroha Library":MAILTO:libraries@mpdc.govt.nz
GEO:-37.5447147;175.7120966
X-APPLE-STRUCTURED-LOCATION;VALUE=URI;X-ADDRESS=Te Aroha Library 43 Rewi Street Te Aroha Waikato 3320 New Zealand;X-APPLE-RADIUS=500;X-TITLE=43 Rewi Street:geo:175.7120966,-37.5447147
END:VEVENT
END:VCALENDAR