BEGIN:VCALENDAR
VERSION:2.0
PRODID:-//Te Aroha - ECPv6.15.20//NONSGML v1.0//EN
CALSCALE:GREGORIAN
METHOD:PUBLISH
X-ORIGINAL-URL:https://tearohanz.co.nz
X-WR-CALDESC:Events for Te Aroha
REFRESH-INTERVAL;VALUE=DURATION:PT1H
X-Robots-Tag:noindex
X-PUBLISHED-TTL:PT1H
BEGIN:VTIMEZONE
TZID:Pacific/Auckland
BEGIN:STANDARD
TZOFFSETFROM:+1300
TZOFFSETTO:+1200
TZNAME:NZST
DTSTART:20230401T140000
END:STANDARD
BEGIN:DAYLIGHT
TZOFFSETFROM:+1200
TZOFFSETTO:+1300
TZNAME:NZDT
DTSTART:20230923T140000
END:DAYLIGHT
BEGIN:STANDARD
TZOFFSETFROM:+1300
TZOFFSETTO:+1200
TZNAME:NZST
DTSTART:20240406T140000
END:STANDARD
BEGIN:DAYLIGHT
TZOFFSETFROM:+1200
TZOFFSETTO:+1300
TZNAME:NZDT
DTSTART:20240928T140000
END:DAYLIGHT
BEGIN:STANDARD
TZOFFSETFROM:+1300
TZOFFSETTO:+1200
TZNAME:NZST
DTSTART:20250405T140000
END:STANDARD
BEGIN:DAYLIGHT
TZOFFSETFROM:+1200
TZOFFSETTO:+1300
TZNAME:NZDT
DTSTART:20250927T140000
END:DAYLIGHT
END:VTIMEZONE
BEGIN:VEVENT
DTSTART;TZID=Pacific/Auckland:20241128T190000
DTEND;TZID=Pacific/Auckland:20241207T210000
DTSTAMP:20260425T085141
CREATED:20241104T233754Z
LAST-MODIFIED:20241105T034403Z
UID:10002323-1732820400-1733605200@tearohanz.co.nz
SUMMARY:A Vicar of Dibley Christmas - The Second Coming
DESCRIPTION:Te Aroha Dramatic Society proudly presents – A Vicar of Dibley Christmas – The Second Coming by Jan Gower and Paul Carpenter; directed by Annette Plumpton and John Watson. \nOn stage from 28 Nov – 07 Dec 2024 ( 2.00pm matinees 30 Nov and 01 Dec) \nTickets on sale at www.tearohalittletheatre.com from 21 October
URL:https://tearohanz.co.nz/event/a-vicar-of-dibley-christmas-the-second-coming/
LOCATION:Te Aroha Little Theatre\, 8 Honi Street Te Aroha 3320\, te aroha\, 3320\, New Zealand
CATEGORIES:Featured Event
ATTACH;FMTTYPE=image/jpeg:https://tearohanz.co.nz/wp-content/uploads/2024/11/Vicar-of-Dibley-scaled.jpg
GEO:-37.544121;175.7092435
X-APPLE-STRUCTURED-LOCATION;VALUE=URI;X-ADDRESS=Te Aroha Little Theatre 8 Honi Street Te Aroha 3320 te aroha 3320 New Zealand;X-APPLE-RADIUS=500;X-TITLE=8 Honi Street Te Aroha 3320:geo:175.7092435,-37.544121
END:VEVENT
BEGIN:VEVENT
DTSTART;TZID=Pacific/Auckland:20241201T090000
DTEND;TZID=Pacific/Auckland:20241201T130000
DTSTAMP:20260425T085141
CREATED:20241107T011942Z
LAST-MODIFIED:20241126T211803Z
UID:10002324-1733043600-1733058000@tearohanz.co.nz
SUMMARY:Christmas at Boyd Park - Santa Parade and Market
DESCRIPTION:A day of fun at Boyd Park with a special one-off Christmas market from 9.00am\, and the annual Christmas float parade at 11.00am.  (Please note the parade is in the park this year; NOT on Whitaker Street). \nFloat entry forms and rules are available from Te Aroha Information Centre. Float registrations are required to emailed or delivered to allison.ward@harcourts.co.nz by Friday 29 November. \nPrize giving for floats will be at 12 noon in front of the grandstand followed by the annual Te Aroha Business Assn. Lucky Customer Draw. \nA FUN DAY FOR THE WHOLE FAMILY \nBrought to you by the Te Aroha Business Assn. in partnership with Te Aroha Fire and Rescue and the Te Aroha Country Market
URL:https://tearohanz.co.nz/event/christmas-at-boyd-park-santa-parade-and-market/
LOCATION:Boyd Park\, 50 Stanley Avenue Te Aroha\, Te Aroha\, 3320\, New Zealand
CATEGORIES:Event,Featured Event,Market
ATTACH;FMTTYPE=image/jpeg:https://tearohanz.co.nz/wp-content/uploads/2024/11/Christmas-at-Boyd-Park-scaled.jpg
ORGANIZER;CN="Te Aroha Business Assn.":MAILTO:secretary@business.tearoha.com
GEO:-37.5462898;175.7005753
X-APPLE-STRUCTURED-LOCATION;VALUE=URI;X-ADDRESS=Boyd Park 50 Stanley Avenue Te Aroha Te Aroha 3320 New Zealand;X-APPLE-RADIUS=500;X-TITLE=50 Stanley Avenue Te Aroha:geo:175.7005753,-37.5462898
END:VEVENT
BEGIN:VEVENT
DTSTART;TZID=Pacific/Auckland:20241203T173000
DTEND;TZID=Pacific/Auckland:20241203T183000
DTSTAMP:20260425T085141
CREATED:20241126T205555Z
LAST-MODIFIED:20241126T205555Z
UID:10002706-1733247000-1733250600@tearohanz.co.nz
SUMMARY:YOGA in the Domain
DESCRIPTION:Join local YOGA instructor\, Vicki Sherwood on the lawn in front of Te Aroha Mineral Spas. Some mats will be available and you are welcome to bring your own or enjoy YOGA on the grass. All ages and stages are welcome! \n  \nCar parking on Boundary and Whitaker Streets. \nAre you interested in running your own free outdoor activity in the Domain this summer? Connect at: prideofplace@mpdc.govt.nz
URL:https://tearohanz.co.nz/event/yoga-in-the-domain/2024-12-03/
ATTACH;FMTTYPE=image/jpeg:https://tearohanz.co.nz/wp-content/uploads/2024/11/Yoga-in-the-Domain-2024-scaled.jpg
ORGANIZER;CN="Matamata-Piako District Council":MAILTO:info@mpdc.govt.nz
END:VEVENT
BEGIN:VEVENT
DTSTART;TZID=Pacific/Auckland:20241204T093000
DTEND;TZID=Pacific/Auckland:20241204T103000
DTSTAMP:20260425T085141
CREATED:20241126T205555Z
LAST-MODIFIED:20241126T205555Z
UID:10002707-1733304600-1733308200@tearohanz.co.nz
SUMMARY:YOGA in the Domain
DESCRIPTION:Join local YOGA instructor\, Vicki Sherwood on the lawn in front of Te Aroha Mineral Spas. Some mats will be available and you are welcome to bring your own or enjoy YOGA on the grass. All ages and stages are welcome! \n  \nCar parking on Boundary and Whitaker Streets. \nAre you interested in running your own free outdoor activity in the Domain this summer? Connect at: prideofplace@mpdc.govt.nz
URL:https://tearohanz.co.nz/event/yoga-in-the-domain/2024-12-04/
ATTACH;FMTTYPE=image/jpeg:https://tearohanz.co.nz/wp-content/uploads/2024/11/Yoga-in-the-Domain-2024-scaled.jpg
ORGANIZER;CN="Matamata-Piako District Council":MAILTO:info@mpdc.govt.nz
END:VEVENT
BEGIN:VEVENT
DTSTART;TZID=Pacific/Auckland:20241205T180000
DTEND;TZID=Pacific/Auckland:20241214T200000
DTSTAMP:20260425T085141
CREATED:20241125T223802Z
LAST-MODIFIED:20241126T211340Z
UID:10002703-1733421600-1734206400@tearohanz.co.nz
SUMMARY:Christmas Display @ Future Te Aroha
DESCRIPTION:Come and meet Santa! Experience the Christmas Magic! \n5th\, 6th\, 7th and 12th\, 13th\, 14th December\, \n6pm to 8pm\, \nRefreshments available \nFundraising for 2025 operating costs
URL:https://tearohanz.co.nz/event/christmas-display/
LOCATION:Future Te Aroha Centre\, 13 Boundary Street\, Te Aroha\, Waikato\, 3320\, New Zealand
CATEGORIES:Event
ATTACH;FMTTYPE=image/jpeg:https://tearohanz.co.nz/wp-content/uploads/2024/11/FTA-Christmas-Display.jpg
ORGANIZER;CN="Future Te Aroha Centre":MAILTO:futureta@xtra.co.nz
GEO:-37.5439559;175.7143041
X-APPLE-STRUCTURED-LOCATION;VALUE=URI;X-ADDRESS=Future Te Aroha Centre 13 Boundary Street Te Aroha Waikato 3320 New Zealand;X-APPLE-RADIUS=500;X-TITLE=13 Boundary Street:geo:175.7143041,-37.5439559
END:VEVENT
BEGIN:VEVENT
DTSTART;TZID=Pacific/Auckland:20241211T180000
DTEND;TZID=Pacific/Auckland:20241211T190000
DTSTAMP:20260425T085141
CREATED:20241125T234344Z
LAST-MODIFIED:20241202T210610Z
UID:10002705-1733940000-1733943600@tearohanz.co.nz
SUMMARY:Christmas Carols
DESCRIPTION:6 – 7 pm Te Aroha Hospital \nand then Lawrence House
URL:https://tearohanz.co.nz/event/christmas-carols/
LOCATION:Te Aroha Hospital\, 72 Stanley Avenue\, Te Aroha\, Waikato\, 3320\, New Zealand
CATEGORIES:Event
GEO:-37.5449684;175.697634
X-APPLE-STRUCTURED-LOCATION;VALUE=URI;X-ADDRESS=Te Aroha Hospital 72 Stanley Avenue Te Aroha Waikato 3320 New Zealand;X-APPLE-RADIUS=500;X-TITLE=72 Stanley Avenue:geo:175.697634,-37.5449684
END:VEVENT
BEGIN:VEVENT
DTSTART;TZID=Pacific/Auckland:20241214T160000
DTEND;TZID=Pacific/Auckland:20241214T173000
DTSTAMP:20260425T085141
CREATED:20241125T221114Z
LAST-MODIFIED:20241126T212104Z
UID:10002327-1734192000-1734197400@tearohanz.co.nz
SUMMARY:Ding Dong\, merrily on high.......
DESCRIPTION:The Te Aroha Community Choir presents a \nConcert of Carols and Seasonal Songs \nWith carols & songs for you to join in \n-bring the whole family! \nDoors open from 3.25 pm \nProceeds to Community Health Shuttle
URL:https://tearohanz.co.nz/event/ding-dong-merrily-on-high/
LOCATION:Senior Citizen’s Hall\, Church Street 24\, Te Aroha\, Waikato\, 3320\, New Zealand
CATEGORIES:Event
ATTACH;FMTTYPE=image/jpeg:https://tearohanz.co.nz/wp-content/uploads/2024/11/DingDongChoir.jpg
GEO:-37.5416757;175.712613
X-APPLE-STRUCTURED-LOCATION;VALUE=URI;X-ADDRESS=Senior Citizen’s Hall Church Street 24 Te Aroha Waikato 3320 New Zealand;X-APPLE-RADIUS=500;X-TITLE=Church Street 24:geo:175.712613,-37.5416757
END:VEVENT
BEGIN:VEVENT
DTSTART;TZID=Pacific/Auckland:20241214T173000
DTEND;TZID=Pacific/Auckland:20241214T190000
DTSTAMP:20260425T085141
CREATED:20241108T021452Z
LAST-MODIFIED:20241112T210248Z
UID:10002325-1734197400-1734202800@tearohanz.co.nz
SUMMARY:Christmas at Firth Tower
DESCRIPTION:Join us for a magical evening of festive cheer at the Firth Tower historic reserve. Enjoy enchanting performances by the award winning Matamata Brass Band and sing-along with the Matamata Community Choir against the backdrop of our beautifully decorated museum. \nWe invite you to bring a picnic and make it a memorable night out with your loved ones at this family-friendly event. \nPlease bring: \n\nyour own picnic\nwarm clothes\nmosquito repellent\nblanket or camping chairs\nyour best singing voice\n\nDon’t bring: \n\nalcoholic drinks\nsmokes or vapes\ncooking equipment\ndogs or other pets\ngrinch energy
URL:https://tearohanz.co.nz/event/christmas-at-firth-tower/
LOCATION:Firth Tower Reserve\, 266A Tower Rd Matamata\, Matamata\, 3471
ATTACH;FMTTYPE=image/jpeg:https://tearohanz.co.nz/wp-content/uploads/2024/11/Instagram-scaled.jpg
GEO:-37.8014354;175.8076696
X-APPLE-STRUCTURED-LOCATION;VALUE=URI;X-ADDRESS=Firth Tower Reserve 266A Tower Rd Matamata Matamata 3471;X-APPLE-RADIUS=500;X-TITLE=266A Tower Rd Matamata:geo:175.8076696,-37.8014354
END:VEVENT
BEGIN:VEVENT
DTSTART;TZID=Pacific/Auckland:20241215T090000
DTEND;TZID=Pacific/Auckland:20241215T130000
DTSTAMP:20260425T085141
CREATED:20250116T002607Z
LAST-MODIFIED:20250116T002614Z
UID:10002322-1734253200-1734267600@tearohanz.co.nz
SUMMARY:Te Aroha Country Market
DESCRIPTION:Come to Boyd Park in Stanley Ave and enjoy the friendly country feel of our great market. Have a snack and a coffee and wander around the wide variety of stalls.\n\n\n\nMarket is on the third Sunday of every month. Doors open at 7.00am to set up and market runs 9.00am – 1.00pm. Cash-out EFTPOS provided for customers\, raffles\, food\, clothing\, gifts\, homewares\, pet supplies\, gifts and mountains more\, \nA stall costs $10.00 and once the expenses are covered the remainder is donated to charity \n\nLocation : Boyd Park\, Stanley Ave\, Te Aroha\nContact : https://www.facebook.com/groups/571854704486370/
URL:https://tearohanz.co.nz/event/te-arohas-country-market-2-2/
LOCATION:Boyd Park\, 50 Stanley Avenue Te Aroha\, Te Aroha\, 3320\, New Zealand
CATEGORIES:Market
ATTACH;FMTTYPE=image/jpeg:https://tearohanz.co.nz/wp-content/uploads/2024/09/country-craft-market.jpg
GEO:-37.5462898;175.7005753
X-APPLE-STRUCTURED-LOCATION;VALUE=URI;X-ADDRESS=Boyd Park 50 Stanley Avenue Te Aroha Te Aroha 3320 New Zealand;X-APPLE-RADIUS=500;X-TITLE=50 Stanley Avenue Te Aroha:geo:175.7005753,-37.5462898
END:VEVENT
BEGIN:VEVENT
DTSTART;TZID=Pacific/Auckland:20241218T190000
DTEND;TZID=Pacific/Auckland:20241218T220000
DTSTAMP:20260425T085141
CREATED:20241204T001602Z
LAST-MODIFIED:20241204T001947Z
UID:10002709-1734548400-1734559200@tearohanz.co.nz
SUMMARY:A NIGHT OF AROHA - Relaxation and Reflection
DESCRIPTION:Coral Stone hosts a Night of Aroha \nRelaxation and Reflection \nSound-Voice-Connect \nLimited Spaces \nPlease Ph or TXT 027 826 8993
URL:https://tearohanz.co.nz/event/a-night-of-aroha-relaxation-and-reflection/
LOCATION:Old Courthouse Te Aroha\, Rewi Street 49\, Te Aroha\, 3320\, New Zealand
CATEGORIES:Featured Event
ATTACH;FMTTYPE=image/jpeg:https://tearohanz.co.nz/wp-content/uploads/2024/12/Coral-Stone-scaled.jpg
GEO:-37.5444257;175.7117683
X-APPLE-STRUCTURED-LOCATION;VALUE=URI;X-ADDRESS=Old Courthouse Te Aroha Rewi Street 49 Te Aroha 3320 New Zealand;X-APPLE-RADIUS=500;X-TITLE=Rewi Street 49:geo:175.7117683,-37.5444257
END:VEVENT
BEGIN:VEVENT
DTSTART;TZID=Pacific/Auckland:20241225T113000
DTEND;TZID=Pacific/Auckland:20241225T140000
DTSTAMP:20260425T085141
CREATED:20241211T211241Z
LAST-MODIFIED:20241211T211241Z
UID:10002710-1735126200-1735135200@tearohanz.co.nz
SUMMARY:Te Aroha Community Christmas Dinner
DESCRIPTION:Community Christmas dinner is available again\, run by volunteers for the community. For anyone who may wish to join in sharing a Christmas meal together. \n  \nWhen – Music and festivities from around 11.30am and Christmas dinner served at 12 noon. \nWhere – Te Aroha Cooperating Parish 32 Church St Te Aroha \nIf you would like to join us\, please put your name and contact details on one of the lists by  Friday 20th December. Lists are located at – Salvation Army Family Store\, TA Information Centre\, St David’s Church or the Citizens Advice Bureau. \nThere is no cost but donations will be gladly accepted. \nWe are looking for extra hands who may wish to be involved in the planning so we can share the load and ensure this event can keep running in the future. To volunteer\, please contact us; we look forward to hearing from you
URL:https://tearohanz.co.nz/event/te-aroha-community-christmas-dinner/
LOCATION:St Davids Cooperating Parish\, Church Street 32\, Te Aroha\, 3320\, New Zealand
ATTACH;FMTTYPE=image/webp:https://tearohanz.co.nz/wp-content/uploads/2024/12/pictureperfect-christmas-dinner-table-top-600nw-2374793243-e1733951490665.webp
ORGANIZER;CN="Nakita McNab - Please note I do work so please text or call outside of school hours":MAILTO:ketafunk@gmail.com
GEO:-37.5407594;175.7116752
X-APPLE-STRUCTURED-LOCATION;VALUE=URI;X-ADDRESS=St Davids Cooperating Parish Church Street 32 Te Aroha 3320 New Zealand;X-APPLE-RADIUS=500;X-TITLE=Church Street 32:geo:175.7116752,-37.5407594
END:VEVENT
END:VCALENDAR