BEGIN:VCALENDAR
VERSION:2.0
PRODID:-//Te Aroha - ECPv6.15.11//NONSGML v1.0//EN
CALSCALE:GREGORIAN
METHOD:PUBLISH
X-ORIGINAL-URL:https://tearohanz.co.nz
X-WR-CALDESC:Events for Te Aroha
REFRESH-INTERVAL;VALUE=DURATION:PT1H
X-Robots-Tag:noindex
X-PUBLISHED-TTL:PT1H
BEGIN:VTIMEZONE
TZID:Pacific/Auckland
BEGIN:STANDARD
TZOFFSETFROM:+1300
TZOFFSETTO:+1200
TZNAME:NZST
DTSTART:20250405T140000
END:STANDARD
BEGIN:DAYLIGHT
TZOFFSETFROM:+1200
TZOFFSETTO:+1300
TZNAME:NZDT
DTSTART:20250927T140000
END:DAYLIGHT
BEGIN:STANDARD
TZOFFSETFROM:+1300
TZOFFSETTO:+1200
TZNAME:NZST
DTSTART:20260404T140000
END:STANDARD
BEGIN:DAYLIGHT
TZOFFSETFROM:+1200
TZOFFSETTO:+1300
TZNAME:NZDT
DTSTART:20260926T140000
END:DAYLIGHT
BEGIN:STANDARD
TZOFFSETFROM:+1300
TZOFFSETTO:+1200
TZNAME:NZST
DTSTART:20270403T140000
END:STANDARD
BEGIN:DAYLIGHT
TZOFFSETFROM:+1200
TZOFFSETTO:+1300
TZNAME:NZDT
DTSTART:20270925T140000
END:DAYLIGHT
END:VTIMEZONE
BEGIN:VEVENT
DTSTART;TZID=Pacific/Auckland:20261024T103000
DTEND;TZID=Pacific/Auckland:20261025T233000
DTSTAMP:20260422T223633
CREATED:20260422T044903Z
LAST-MODIFIED:20260422T044903Z
UID:10003742-1792837800-1792971000@tearohanz.co.nz
SUMMARY:St Mark's Anglican Peace Memorial Church 100 year centennary
DESCRIPTION:You are invited to St Mark’s Anglican Peace Memorial Church to celebrate 100 years since this iconic building was dedicated as a peace memorial by the Primate of New Zealand\, Archbishop A W Averill on 24 October 1926. \nLEST WE FORGET \n  \nThe planned programme is as faollows – \nSaturday 24 October 2026 \n10.30am – Gather in the hall for a welcome\, morning tea and slide show. During the day the church will be open with some entertainment and a display of old photos and items of interest. \nA registration fee of $10 is required to be paaid by 30 June 2026. Bank details are at the bottom of the paage. You will also need to advise your details to Liz Harrop by email ianandliz@xtra.co.nz or by phone on 021 299 1719 by way of confirmation or for further information. Details required are your name\, phone number\, email address and the number attending the dinner. There will be a further cost of $30 each for the dinner to be paid by 01 October 2026. If you have items you are willing to share\, we would be happy to display them. \n5.30pmEvening meal ($30per person)will be served followed by guest speaker Bishop Sir David Moxon. \nSunday 25 October 2026 \n10am – Sunday service with Bishop Philip Richardson in attendance. A light morning tea will follow the service. \nAccount name – Diocese of Waikato & Taranaki Te Aroha Parish \nAccount number – 02 0316 0155033 022 \n 
URL:https://tearohanz.co.nz/event/st-marks-anglican-peace-memorial-church-100-year-centennary/
LOCATION:St Marks Anglican Church\, 7 Kenrick St\, Te Aroha\, Waikato\, 3320\, New Zealand
CATEGORIES:Event
ATTACH;FMTTYPE=image/webp:https://tearohanz.co.nz/wp-content/uploads/2026/04/St-Marks-e1776833329445.webp
ORGANIZER;CN="St Marks Anglican Church":MAILTO:https://stmarkstearoha.weebly.com/contact.html
GEO:-37.5424818;175.7139082
X-APPLE-STRUCTURED-LOCATION;VALUE=URI;X-ADDRESS=St Marks Anglican Church 7 Kenrick St Te Aroha Waikato 3320 New Zealand;X-APPLE-RADIUS=500;X-TITLE=7 Kenrick St:geo:175.7139082,-37.5424818
END:VEVENT
END:VCALENDAR