BEGIN:VCALENDAR
VERSION:2.0
PRODID:-//Te Aroha - ECPv6.15.11//NONSGML v1.0//EN
CALSCALE:GREGORIAN
METHOD:PUBLISH
X-ORIGINAL-URL:https://tearohanz.co.nz
X-WR-CALDESC:Events for Te Aroha
REFRESH-INTERVAL;VALUE=DURATION:PT1H
X-Robots-Tag:noindex
X-PUBLISHED-TTL:PT1H
BEGIN:VTIMEZONE
TZID:Pacific/Auckland
BEGIN:STANDARD
TZOFFSETFROM:+1300
TZOFFSETTO:+1200
TZNAME:NZST
DTSTART:20240406T140000
END:STANDARD
BEGIN:DAYLIGHT
TZOFFSETFROM:+1200
TZOFFSETTO:+1300
TZNAME:NZDT
DTSTART:20240928T140000
END:DAYLIGHT
BEGIN:STANDARD
TZOFFSETFROM:+1300
TZOFFSETTO:+1200
TZNAME:NZST
DTSTART:20250405T140000
END:STANDARD
BEGIN:DAYLIGHT
TZOFFSETFROM:+1200
TZOFFSETTO:+1300
TZNAME:NZDT
DTSTART:20250927T140000
END:DAYLIGHT
BEGIN:STANDARD
TZOFFSETFROM:+1300
TZOFFSETTO:+1200
TZNAME:NZST
DTSTART:20260404T140000
END:STANDARD
BEGIN:DAYLIGHT
TZOFFSETFROM:+1200
TZOFFSETTO:+1300
TZNAME:NZDT
DTSTART:20260926T140000
END:DAYLIGHT
END:VTIMEZONE
BEGIN:VEVENT
DTSTART;TZID=Pacific/Auckland:20250215T090000
DTEND;TZID=Pacific/Auckland:20250215T160000
DTSTAMP:20260421T220128
CREATED:20250131T023829Z
LAST-MODIFIED:20250207T023439Z
UID:10002778-1739610000-1739635200@tearohanz.co.nz
SUMMARY:ADRIAN WORSLEY GALLERY - OPEN DAY
DESCRIPTION:Get to see behind the scenes of Adrian Worsley’s Gallery and workshop. \nThis opportunity only comes once a year.
URL:https://tearohanz.co.nz/event/adrian-worsley-gallery-open-day/
LOCATION:Adrian Worsley Gallery\, 62 Rewi Street\, Te Aroha\, 3320\, New Zealand
CATEGORIES:Event,Featured Event
ATTACH;FMTTYPE=image/jpeg:https://tearohanz.co.nz/wp-content/uploads/2025/01/Adrain-Worsley-gallery-Open-Day-15-Feb-2025-scaled-e1738895510489.jpg
GEO:-37.5431566;175.7111199
X-APPLE-STRUCTURED-LOCATION;VALUE=URI;X-ADDRESS=Adrian Worsley Gallery 62 Rewi Street Te Aroha 3320 New Zealand;X-APPLE-RADIUS=500;X-TITLE=62 Rewi Street:geo:175.7111199,-37.5431566
END:VEVENT
END:VCALENDAR