BEGIN:VCALENDAR
VERSION:2.0
PRODID:-//Te Aroha - ECPv6.15.11//NONSGML v1.0//EN
CALSCALE:GREGORIAN
METHOD:PUBLISH
X-ORIGINAL-URL:https://tearohanz.co.nz
X-WR-CALDESC:Events for Te Aroha
REFRESH-INTERVAL;VALUE=DURATION:PT1H
X-Robots-Tag:noindex
X-PUBLISHED-TTL:PT1H
BEGIN:VTIMEZONE
TZID:Pacific/Auckland
BEGIN:STANDARD
TZOFFSETFROM:+1300
TZOFFSETTO:+1200
TZNAME:NZST
DTSTART:20230401T140000
END:STANDARD
BEGIN:DAYLIGHT
TZOFFSETFROM:+1200
TZOFFSETTO:+1300
TZNAME:NZDT
DTSTART:20230923T140000
END:DAYLIGHT
BEGIN:STANDARD
TZOFFSETFROM:+1300
TZOFFSETTO:+1200
TZNAME:NZST
DTSTART:20240406T140000
END:STANDARD
BEGIN:DAYLIGHT
TZOFFSETFROM:+1200
TZOFFSETTO:+1300
TZNAME:NZDT
DTSTART:20240928T140000
END:DAYLIGHT
BEGIN:STANDARD
TZOFFSETFROM:+1300
TZOFFSETTO:+1200
TZNAME:NZST
DTSTART:20250405T140000
END:STANDARD
BEGIN:DAYLIGHT
TZOFFSETFROM:+1200
TZOFFSETTO:+1300
TZNAME:NZDT
DTSTART:20250927T140000
END:DAYLIGHT
END:VTIMEZONE
BEGIN:VEVENT
DTSTART;TZID=Pacific/Auckland:20241005T090000
DTEND;TZID=Pacific/Auckland:20241005T140000
DTSTAMP:20260422T023349
CREATED:20240910T214136Z
LAST-MODIFIED:20240923T011404Z
UID:10000021-1728118800-1728136800@tearohanz.co.nz
SUMMARY:Aroha Cruise In
DESCRIPTION:Aroha Cruise In Te Aroha \nVehicle Show & Spring Market \nMore info: cruisein.co.nz \narohacruisein@gmail.com
URL:https://tearohanz.co.nz/event/aroha-cruise-in/
LOCATION:Aroha Cruise IN\, Stanley Rd\, Te Aroha\, 3320\, New Zealand
CATEGORIES:Featured Event,Vehicle Show
ATTACH;FMTTYPE=image/png:https://tearohanz.co.nz/wp-content/uploads/2024/09/Screenshot-2024-09-11-094257.png
GEO:-37.544703;175.7140943
X-APPLE-STRUCTURED-LOCATION;VALUE=URI;X-ADDRESS=Aroha Cruise IN Stanley Rd Te Aroha 3320 New Zealand;X-APPLE-RADIUS=500;X-TITLE=Stanley Rd:geo:175.7140943,-37.544703
END:VEVENT
END:VCALENDAR