BEGIN:VCALENDAR
VERSION:2.0
PRODID:-//Te Aroha - ECPv6.15.11//NONSGML v1.0//EN
CALSCALE:GREGORIAN
METHOD:PUBLISH
X-ORIGINAL-URL:https://tearohanz.co.nz
X-WR-CALDESC:Events for Te Aroha
REFRESH-INTERVAL;VALUE=DURATION:PT1H
X-Robots-Tag:noindex
X-PUBLISHED-TTL:PT1H
BEGIN:VTIMEZONE
TZID:Pacific/Auckland
BEGIN:STANDARD
TZOFFSETFROM:+1300
TZOFFSETTO:+1200
TZNAME:NZST
DTSTART:20230401T140000
END:STANDARD
BEGIN:DAYLIGHT
TZOFFSETFROM:+1200
TZOFFSETTO:+1300
TZNAME:NZDT
DTSTART:20230923T140000
END:DAYLIGHT
BEGIN:STANDARD
TZOFFSETFROM:+1300
TZOFFSETTO:+1200
TZNAME:NZST
DTSTART:20240406T140000
END:STANDARD
BEGIN:DAYLIGHT
TZOFFSETFROM:+1200
TZOFFSETTO:+1300
TZNAME:NZDT
DTSTART:20240928T140000
END:DAYLIGHT
BEGIN:STANDARD
TZOFFSETFROM:+1300
TZOFFSETTO:+1200
TZNAME:NZST
DTSTART:20250405T140000
END:STANDARD
BEGIN:DAYLIGHT
TZOFFSETFROM:+1200
TZOFFSETTO:+1300
TZNAME:NZDT
DTSTART:20250927T140000
END:DAYLIGHT
END:VTIMEZONE
BEGIN:VEVENT
DTSTART;TZID=Pacific/Auckland:20241211T180000
DTEND;TZID=Pacific/Auckland:20241211T190000
DTSTAMP:20260422T113007
CREATED:20241125T234344Z
LAST-MODIFIED:20241202T210610Z
UID:10002705-1733940000-1733943600@tearohanz.co.nz
SUMMARY:Christmas Carols
DESCRIPTION:6 – 7 pm Te Aroha Hospital \nand then Lawrence House
URL:https://tearohanz.co.nz/event/christmas-carols/
LOCATION:Te Aroha Hospital\, 72 Stanley Avenue\, Te Aroha\, Waikato\, 3320\, New Zealand
CATEGORIES:Event
GEO:-37.5449684;175.697634
X-APPLE-STRUCTURED-LOCATION;VALUE=URI;X-ADDRESS=Te Aroha Hospital 72 Stanley Avenue Te Aroha Waikato 3320 New Zealand;X-APPLE-RADIUS=500;X-TITLE=72 Stanley Avenue:geo:175.697634,-37.5449684
END:VEVENT
END:VCALENDAR