BEGIN:VCALENDAR
VERSION:2.0
PRODID:-//Te Aroha - ECPv6.15.11//NONSGML v1.0//EN
CALSCALE:GREGORIAN
METHOD:PUBLISH
X-ORIGINAL-URL:https://tearohanz.co.nz
X-WR-CALDESC:Events for Te Aroha
REFRESH-INTERVAL;VALUE=DURATION:PT1H
X-Robots-Tag:noindex
X-PUBLISHED-TTL:PT1H
BEGIN:VTIMEZONE
TZID:Pacific/Auckland
BEGIN:STANDARD
TZOFFSETFROM:+1300
TZOFFSETTO:+1200
TZNAME:NZST
DTSTART:20230401T140000
END:STANDARD
BEGIN:DAYLIGHT
TZOFFSETFROM:+1200
TZOFFSETTO:+1300
TZNAME:NZDT
DTSTART:20230923T140000
END:DAYLIGHT
BEGIN:STANDARD
TZOFFSETFROM:+1300
TZOFFSETTO:+1200
TZNAME:NZST
DTSTART:20240406T140000
END:STANDARD
BEGIN:DAYLIGHT
TZOFFSETFROM:+1200
TZOFFSETTO:+1300
TZNAME:NZDT
DTSTART:20240928T140000
END:DAYLIGHT
BEGIN:STANDARD
TZOFFSETFROM:+1300
TZOFFSETTO:+1200
TZNAME:NZST
DTSTART:20250405T140000
END:STANDARD
BEGIN:DAYLIGHT
TZOFFSETFROM:+1200
TZOFFSETTO:+1300
TZNAME:NZDT
DTSTART:20250927T140000
END:DAYLIGHT
BEGIN:STANDARD
TZOFFSETFROM:+1300
TZOFFSETTO:+1200
TZNAME:NZST
DTSTART:20260404T140000
END:STANDARD
BEGIN:DAYLIGHT
TZOFFSETFROM:+1200
TZOFFSETTO:+1300
TZNAME:NZDT
DTSTART:20260926T140000
END:DAYLIGHT
END:VTIMEZONE
BEGIN:VEVENT
DTSTART;TZID=Pacific/Auckland:20251204T180000
DTEND;TZID=Pacific/Auckland:20251204T180000
DTSTAMP:20260423T111907
CREATED:20251114T034746Z
LAST-MODIFIED:20251114T034746Z
UID:10003338-1764871200-1764871200@tearohanz.co.nz
SUMMARY:Te Aroha RSA - Xmas Buffet Dinner
DESCRIPTION:Enjoy a Christmas dinner and be entertained \nDinner from 6:00pm – $35.00 per person \nFree entertainment by Magic from 7:00pm. \nPrizes for Best Dressed so get your Santa hats on! \nFor dinner booking phone Janet 027 459 5704 or Te Aroha RSA 07 884 8124 \nEVERYONE WELCOME \n 
URL:https://tearohanz.co.nz/event/te-aroha-rsa-xmas-buffet-dinner/
LOCATION:Te Aroha Memorial RSA\, 67 Rewi Street\, Te Aroha\, 3320\, New Zealand
GEO:-37.543232;175.710489
X-APPLE-STRUCTURED-LOCATION;VALUE=URI;X-ADDRESS=Te Aroha Memorial RSA 67 Rewi Street Te Aroha 3320 New Zealand;X-APPLE-RADIUS=500;X-TITLE=67 Rewi Street:geo:175.710489,-37.543232
END:VEVENT
BEGIN:VEVENT
DTSTART;TZID=Pacific/Auckland:20251019T150000
DTEND;TZID=Pacific/Auckland:20251019T230000
DTSTAMP:20260423T111907
CREATED:20250926T040518Z
LAST-MODIFIED:20251005T204828Z
UID:10003322-1760886000-1760914800@tearohanz.co.nz
SUMMARY:Morrinsville Country Music Club Entertaining
DESCRIPTION:Everyone welcome \nDoor Charge  $5.00 \nKitchen 67 – open for dinner from 4:00pm \n 
URL:https://tearohanz.co.nz/event/morrinsville-country-music-club-entertaining-2/
LOCATION:Te Aroha Memorial RSA\, 67 Rewi Street\, Te Aroha\, 3320\, New Zealand
CATEGORIES:Event
ATTACH;FMTTYPE=image/jpeg:https://tearohanz.co.nz/wp-content/uploads/2025/09/hari-nandakumar-tjAp1TNAT5o-unsplash-cropped.jpg
GEO:-37.543232;175.710489
X-APPLE-STRUCTURED-LOCATION;VALUE=URI;X-ADDRESS=Te Aroha Memorial RSA 67 Rewi Street Te Aroha 3320 New Zealand;X-APPLE-RADIUS=500;X-TITLE=67 Rewi Street:geo:175.710489,-37.543232
END:VEVENT
BEGIN:VEVENT
DTSTART;TZID=Pacific/Auckland:20250524T190000
DTEND;TZID=Pacific/Auckland:20250524T223000
DTSTAMP:20260423T111907
CREATED:20250410T225012Z
LAST-MODIFIED:20250415T000146Z
UID:10002793-1748113200-1748125800@tearohanz.co.nz
SUMMARY:A tribute to FREDDIE MERCURY by Paul Madsen and Band
DESCRIPTION:Songs such as – \nCrazy Little Thing Called Love \nAnother One Bites the Dust \nBohemian Rhapsody + many more. \n  \nTickets $30.00 \nHe will rock you!
URL:https://tearohanz.co.nz/event/a-tribute-to-freddie-mercury-by-paul-madsen-and-band/
LOCATION:Te Aroha Memorial RSA\, 67 Rewi Street\, Te Aroha\, 3320\, New Zealand
CATEGORIES:Event,Featured Event
ATTACH;FMTTYPE=image/jpeg:https://tearohanz.co.nz/wp-content/uploads/2025/04/2520_003-e1744675267450.jpg
GEO:-37.543232;175.710489
X-APPLE-STRUCTURED-LOCATION;VALUE=URI;X-ADDRESS=Te Aroha Memorial RSA 67 Rewi Street Te Aroha 3320 New Zealand;X-APPLE-RADIUS=500;X-TITLE=67 Rewi Street:geo:175.710489,-37.543232
END:VEVENT
BEGIN:VEVENT
DTSTART;TZID=Pacific/Auckland:20240929T110000
DTEND;TZID=Pacific/Auckland:20240929T110000
DTSTAMP:20260423T111907
CREATED:20240910T215024Z
LAST-MODIFIED:20240918T015356Z
UID:10000022-1727607600-1727607600@tearohanz.co.nz
SUMMARY:Housie at Te Aroha RSA
DESCRIPTION:40 Games+ 1 Diddy + 1 Super $50 a Pack \nExtra tickets can be purchased (Special\, Diddy\, Super) \n(no Splitting Books) \nPrepurchase Sales Welcome \nLunch available at your own cost. \n(Sandwiches-Sausage Rolls-Savouries-Cake Slice) \nTea – Coffee available \nBar will be open but not while games are being played. \n***Everyone Welcome*** \nEnquiries to Trea 027 618 1025 or Pat 07 884 8205 \n\nLocation : 67 Rewi Street Te Aroha\nContact : 027 618 1025
URL:https://tearohanz.co.nz/event/housie-at-te-aroha-rsa/
LOCATION:Te Aroha Memorial RSA\, 67 Rewi Street\, Te Aroha\, 3320\, New Zealand
CATEGORIES:Event
ATTACH;FMTTYPE=image/png:https://tearohanz.co.nz/wp-content/uploads/2024/09/Screenshot-2024-09-11-095004.png
GEO:-37.543232;175.710489
X-APPLE-STRUCTURED-LOCATION;VALUE=URI;X-ADDRESS=Te Aroha Memorial RSA 67 Rewi Street Te Aroha 3320 New Zealand;X-APPLE-RADIUS=500;X-TITLE=67 Rewi Street:geo:175.710489,-37.543232
END:VEVENT
BEGIN:VEVENT
DTSTART;TZID=Pacific/Auckland:20240921T193000
DTEND;TZID=Pacific/Auckland:20240921T193000
DTSTAMP:20260423T111907
CREATED:20240910T213315Z
LAST-MODIFIED:20240919T004748Z
UID:10000020-1726947000-1726947000@tearohanz.co.nz
SUMMARY:ABBA HEAVEN!
DESCRIPTION:ABBA TRIBUTE\, \nTe Aroha RSA Memorial Club \nSaturday 21st September 7.30pm \nTickets $30 from the club \nPhone: (07) 884-8124 \n\nLocation : 67 Rewi Street Te Aroha\nContact : https://www.tearoharsa.co.nz/
URL:https://tearohanz.co.nz/event/abba-heaven/
LOCATION:Te Aroha Memorial RSA\, 67 Rewi Street\, Te Aroha\, 3320\, New Zealand
CATEGORIES:Featured Event
ATTACH;FMTTYPE=image/png:https://tearohanz.co.nz/wp-content/uploads/2024/09/abba-2.png
GEO:-37.543232;175.710489
X-APPLE-STRUCTURED-LOCATION;VALUE=URI;X-ADDRESS=Te Aroha Memorial RSA 67 Rewi Street Te Aroha 3320 New Zealand;X-APPLE-RADIUS=500;X-TITLE=67 Rewi Street:geo:175.710489,-37.543232
END:VEVENT
END:VCALENDAR