BEGIN:VCALENDAR
VERSION:2.0
PRODID:-//Te Aroha - ECPv6.15.11//NONSGML v1.0//EN
CALSCALE:GREGORIAN
METHOD:PUBLISH
X-WR-CALNAME:Te Aroha
X-ORIGINAL-URL:https://tearohanz.co.nz
X-WR-CALDESC:Events for Te Aroha
REFRESH-INTERVAL;VALUE=DURATION:PT1H
X-Robots-Tag:noindex
X-PUBLISHED-TTL:PT1H
BEGIN:VTIMEZONE
TZID:Pacific/Auckland
BEGIN:STANDARD
TZOFFSETFROM:+1300
TZOFFSETTO:+1200
TZNAME:NZST
DTSTART:20240406T140000
END:STANDARD
BEGIN:DAYLIGHT
TZOFFSETFROM:+1200
TZOFFSETTO:+1300
TZNAME:NZDT
DTSTART:20240928T140000
END:DAYLIGHT
BEGIN:STANDARD
TZOFFSETFROM:+1300
TZOFFSETTO:+1200
TZNAME:NZST
DTSTART:20250405T140000
END:STANDARD
BEGIN:DAYLIGHT
TZOFFSETFROM:+1200
TZOFFSETTO:+1300
TZNAME:NZDT
DTSTART:20250927T140000
END:DAYLIGHT
BEGIN:STANDARD
TZOFFSETFROM:+1300
TZOFFSETTO:+1200
TZNAME:NZST
DTSTART:20260404T140000
END:STANDARD
BEGIN:DAYLIGHT
TZOFFSETFROM:+1200
TZOFFSETTO:+1300
TZNAME:NZDT
DTSTART:20260926T140000
END:DAYLIGHT
END:VTIMEZONE
BEGIN:VEVENT
DTSTART;TZID=Pacific/Auckland:20251011T103000
DTEND;TZID=Pacific/Auckland:20251011T143000
DTSTAMP:20260421T203343
CREATED:20250913T001622Z
LAST-MODIFIED:20250924T021218Z
UID:10003320-1760178600-1760193000@tearohanz.co.nz
SUMMARY:Te Aroha Fire Brigade's 125 Year Anniversary Open Day
DESCRIPTION:What’s on the day? \nA range of fire trucks on display \nSausage sizzle \nCoffee cart \nLive kitchen fire safety demos \nStation tours \nLots of photo opportunities \nand more … \nHere’s your chance to step inside your local fire station\, see behind the scenes and connect with your Te Aroha firefighters. \nWhether you’re young\, young at heart or just curious we’d love to see you there!
URL:https://tearohanz.co.nz/event/te-aroha-fire-brigades-125-year-anniversary-open-day/
LOCATION:Te Aroha Volunteer Fire Brigade\, 14 Koromiko Street\, Te Aroha\, 3320\, New Zealand
CATEGORIES:Event
ATTACH;FMTTYPE=image/jpeg:https://tearohanz.co.nz/wp-content/uploads/2025/09/TeArohaFireStnf.jpg
GEO:-37.5418164;175.7139437
X-APPLE-STRUCTURED-LOCATION;VALUE=URI;X-ADDRESS=Te Aroha Volunteer Fire Brigade 14 Koromiko Street Te Aroha 3320 New Zealand;X-APPLE-RADIUS=500;X-TITLE=14 Koromiko Street:geo:175.7139437,-37.5418164
END:VEVENT
END:VCALENDAR