BEGIN:VCALENDAR
VERSION:2.0
PRODID:-//Te Aroha - ECPv6.15.11//NONSGML v1.0//EN
CALSCALE:GREGORIAN
METHOD:PUBLISH
X-WR-CALNAME:Te Aroha
X-ORIGINAL-URL:https://tearohanz.co.nz
X-WR-CALDESC:Events for Te Aroha
REFRESH-INTERVAL;VALUE=DURATION:PT1H
X-Robots-Tag:noindex
X-PUBLISHED-TTL:PT1H
BEGIN:VTIMEZONE
TZID:Pacific/Auckland
BEGIN:STANDARD
TZOFFSETFROM:+1300
TZOFFSETTO:+1200
TZNAME:NZST
DTSTART:20250405T140000
END:STANDARD
BEGIN:DAYLIGHT
TZOFFSETFROM:+1200
TZOFFSETTO:+1300
TZNAME:NZDT
DTSTART:20250927T140000
END:DAYLIGHT
BEGIN:STANDARD
TZOFFSETFROM:+1300
TZOFFSETTO:+1200
TZNAME:NZST
DTSTART:20260404T140000
END:STANDARD
BEGIN:DAYLIGHT
TZOFFSETFROM:+1200
TZOFFSETTO:+1300
TZNAME:NZDT
DTSTART:20260926T140000
END:DAYLIGHT
BEGIN:STANDARD
TZOFFSETFROM:+1300
TZOFFSETTO:+1200
TZNAME:NZST
DTSTART:20270403T140000
END:STANDARD
BEGIN:DAYLIGHT
TZOFFSETFROM:+1200
TZOFFSETTO:+1300
TZNAME:NZDT
DTSTART:20270925T140000
END:DAYLIGHT
END:VTIMEZONE
BEGIN:VEVENT
DTSTART;TZID=Pacific/Auckland:20260422T190000
DTEND;TZID=Pacific/Auckland:20260422T210000
DTSTAMP:20260420T201756
CREATED:20260417T012319Z
LAST-MODIFIED:20260417T012319Z
UID:10003738-1776884400-1776891600@tearohanz.co.nz
SUMMARY:Te Aroha Little Theatre presents - BLACKADDER -The Golden Age
DESCRIPTION:A popular stage adaptation of the classic BBC sitcom Blackadder II\, bringing the sharp-tongued antics of Elizabethan England to a live audience. The play follows the cynical Lord Edmund Blackadder as he navigates the treacherous and often absurd court of Queen Elizabeth I\, perpetually hampered by his dim-witted servant Baldrick and his foppish companion Lord Percy. This production relies on razor-sharp dialogue and slapstick comedy to parody the “Golden Age” of British history. We pair the performance with authentic period costumes and themed medieval banquets to create an immersive\, hilarious experience. \n\n\nThursday 16th April at 7pm \n\n\nFriday 17th April at 7pm \n\n\nSaturday 18th April at 7pm \n\n\nSunday 19th April at 2pm (matinee) \n\n\nWednesday 22nd April at 7pm \n\n\nThursday 23rd April at 7pm \n\n\nFriday 24th April at 7pm \n\n\nSaturday 25th April at 7pm \n\n\nWritten by Richard Curtis and Ben Elton\, adapted for stage by Jason Fraser\, directed by Rod Tanner. \nTickets available at www.tearohalittletheatre.com or from Piako Stationery Supplies.
URL:https://tearohanz.co.nz/event/te-aroha-little-theatre-presents-blackadder-the-golden-age/2026-04-22/
LOCATION:The Little Theatre\, 8 Honi St\, Te Aroha\, Waikato\, 3320\, New Zealand
CATEGORIES:Event,Featured Event,Play
ATTACH;FMTTYPE=image/jpeg:https://tearohanz.co.nz/wp-content/uploads/2026/04/0107_001-scaled-e1776388979728.jpg
GEO:-37.544121;175.7092435
X-APPLE-STRUCTURED-LOCATION;VALUE=URI;X-ADDRESS=The Little Theatre 8 Honi St Te Aroha Waikato 3320 New Zealand;X-APPLE-RADIUS=500;X-TITLE=8 Honi St:geo:175.7092435,-37.544121
END:VEVENT
BEGIN:VEVENT
DTSTART;TZID=Pacific/Auckland:20260423T190000
DTEND;TZID=Pacific/Auckland:20260423T210000
DTSTAMP:20260420T201756
CREATED:20260417T012319Z
LAST-MODIFIED:20260417T012319Z
UID:10003739-1776970800-1776978000@tearohanz.co.nz
SUMMARY:Te Aroha Little Theatre presents - BLACKADDER -The Golden Age
DESCRIPTION:A popular stage adaptation of the classic BBC sitcom Blackadder II\, bringing the sharp-tongued antics of Elizabethan England to a live audience. The play follows the cynical Lord Edmund Blackadder as he navigates the treacherous and often absurd court of Queen Elizabeth I\, perpetually hampered by his dim-witted servant Baldrick and his foppish companion Lord Percy. This production relies on razor-sharp dialogue and slapstick comedy to parody the “Golden Age” of British history. We pair the performance with authentic period costumes and themed medieval banquets to create an immersive\, hilarious experience. \n\n\nThursday 16th April at 7pm \n\n\nFriday 17th April at 7pm \n\n\nSaturday 18th April at 7pm \n\n\nSunday 19th April at 2pm (matinee) \n\n\nWednesday 22nd April at 7pm \n\n\nThursday 23rd April at 7pm \n\n\nFriday 24th April at 7pm \n\n\nSaturday 25th April at 7pm \n\n\nWritten by Richard Curtis and Ben Elton\, adapted for stage by Jason Fraser\, directed by Rod Tanner. \nTickets available at www.tearohalittletheatre.com or from Piako Stationery Supplies.
URL:https://tearohanz.co.nz/event/te-aroha-little-theatre-presents-blackadder-the-golden-age/2026-04-23/
LOCATION:The Little Theatre\, 8 Honi St\, Te Aroha\, Waikato\, 3320\, New Zealand
CATEGORIES:Event,Featured Event,Play
ATTACH;FMTTYPE=image/jpeg:https://tearohanz.co.nz/wp-content/uploads/2026/04/0107_001-scaled-e1776388979728.jpg
GEO:-37.544121;175.7092435
X-APPLE-STRUCTURED-LOCATION;VALUE=URI;X-ADDRESS=The Little Theatre 8 Honi St Te Aroha Waikato 3320 New Zealand;X-APPLE-RADIUS=500;X-TITLE=8 Honi St:geo:175.7092435,-37.544121
END:VEVENT
BEGIN:VEVENT
DTSTART;TZID=Pacific/Auckland:20260424T190000
DTEND;TZID=Pacific/Auckland:20260424T210000
DTSTAMP:20260420T201756
CREATED:20260417T012319Z
LAST-MODIFIED:20260417T012319Z
UID:10003740-1777057200-1777064400@tearohanz.co.nz
SUMMARY:Te Aroha Little Theatre presents - BLACKADDER -The Golden Age
DESCRIPTION:A popular stage adaptation of the classic BBC sitcom Blackadder II\, bringing the sharp-tongued antics of Elizabethan England to a live audience. The play follows the cynical Lord Edmund Blackadder as he navigates the treacherous and often absurd court of Queen Elizabeth I\, perpetually hampered by his dim-witted servant Baldrick and his foppish companion Lord Percy. This production relies on razor-sharp dialogue and slapstick comedy to parody the “Golden Age” of British history. We pair the performance with authentic period costumes and themed medieval banquets to create an immersive\, hilarious experience. \n\n\nThursday 16th April at 7pm \n\n\nFriday 17th April at 7pm \n\n\nSaturday 18th April at 7pm \n\n\nSunday 19th April at 2pm (matinee) \n\n\nWednesday 22nd April at 7pm \n\n\nThursday 23rd April at 7pm \n\n\nFriday 24th April at 7pm \n\n\nSaturday 25th April at 7pm \n\n\nWritten by Richard Curtis and Ben Elton\, adapted for stage by Jason Fraser\, directed by Rod Tanner. \nTickets available at www.tearohalittletheatre.com or from Piako Stationery Supplies.
URL:https://tearohanz.co.nz/event/te-aroha-little-theatre-presents-blackadder-the-golden-age/2026-04-24/
LOCATION:The Little Theatre\, 8 Honi St\, Te Aroha\, Waikato\, 3320\, New Zealand
CATEGORIES:Event,Featured Event,Play
ATTACH;FMTTYPE=image/jpeg:https://tearohanz.co.nz/wp-content/uploads/2026/04/0107_001-scaled-e1776388979728.jpg
GEO:-37.544121;175.7092435
X-APPLE-STRUCTURED-LOCATION;VALUE=URI;X-ADDRESS=The Little Theatre 8 Honi St Te Aroha Waikato 3320 New Zealand;X-APPLE-RADIUS=500;X-TITLE=8 Honi St:geo:175.7092435,-37.544121
END:VEVENT
BEGIN:VEVENT
DTSTART;TZID=Pacific/Auckland:20260425T190000
DTEND;TZID=Pacific/Auckland:20260425T210000
DTSTAMP:20260420T201756
CREATED:20260417T012319Z
LAST-MODIFIED:20260417T012319Z
UID:10003741-1777143600-1777150800@tearohanz.co.nz
SUMMARY:Te Aroha Little Theatre presents - BLACKADDER -The Golden Age
DESCRIPTION:A popular stage adaptation of the classic BBC sitcom Blackadder II\, bringing the sharp-tongued antics of Elizabethan England to a live audience. The play follows the cynical Lord Edmund Blackadder as he navigates the treacherous and often absurd court of Queen Elizabeth I\, perpetually hampered by his dim-witted servant Baldrick and his foppish companion Lord Percy. This production relies on razor-sharp dialogue and slapstick comedy to parody the “Golden Age” of British history. We pair the performance with authentic period costumes and themed medieval banquets to create an immersive\, hilarious experience. \n\n\nThursday 16th April at 7pm \n\n\nFriday 17th April at 7pm \n\n\nSaturday 18th April at 7pm \n\n\nSunday 19th April at 2pm (matinee) \n\n\nWednesday 22nd April at 7pm \n\n\nThursday 23rd April at 7pm \n\n\nFriday 24th April at 7pm \n\n\nSaturday 25th April at 7pm \n\n\nWritten by Richard Curtis and Ben Elton\, adapted for stage by Jason Fraser\, directed by Rod Tanner. \nTickets available at www.tearohalittletheatre.com or from Piako Stationery Supplies.
URL:https://tearohanz.co.nz/event/te-aroha-little-theatre-presents-blackadder-the-golden-age/2026-04-25/
LOCATION:The Little Theatre\, 8 Honi St\, Te Aroha\, Waikato\, 3320\, New Zealand
CATEGORIES:Event,Featured Event,Play
ATTACH;FMTTYPE=image/jpeg:https://tearohanz.co.nz/wp-content/uploads/2026/04/0107_001-scaled-e1776388979728.jpg
GEO:-37.544121;175.7092435
X-APPLE-STRUCTURED-LOCATION;VALUE=URI;X-ADDRESS=The Little Theatre 8 Honi St Te Aroha Waikato 3320 New Zealand;X-APPLE-RADIUS=500;X-TITLE=8 Honi St:geo:175.7092435,-37.544121
END:VEVENT
END:VCALENDAR